BEGIN:VCALENDAR
VERSION:2.0
PRODID:-//Vedanta Vision - ECPv6.15.20//NONSGML v1.0//EN
CALSCALE:GREGORIAN
METHOD:PUBLISH
X-WR-CALNAME:Vedanta Vision
X-ORIGINAL-URL:https://vedantavision.org
X-WR-CALDESC:Events for Vedanta Vision
REFRESH-INTERVAL;VALUE=DURATION:PT1H
X-Robots-Tag:noindex
X-PUBLISHED-TTL:PT1H
BEGIN:VTIMEZONE
TZID:Asia/Kolkata
BEGIN:STANDARD
TZOFFSETFROM:+0530
TZOFFSETTO:+0530
TZNAME:IST
DTSTART:20240101T000000
END:STANDARD
END:VTIMEZONE
BEGIN:VEVENT
DTSTART;TZID=Asia/Kolkata:20250410T190000
DTEND;TZID=Asia/Kolkata:20250410T200000
DTSTAMP:20260425T205959
CREATED:20250311T095017Z
LAST-MODIFIED:20250405T092943Z
UID:19985-1744311600-1744315200@vedantavision.org
SUMMARY:The Power of One
DESCRIPTION:THE POWER OF ONE\n\nFree Talk by Jaya Row\n\n\n\n\nThe whole world is a wonderful blend of diversity. No two beings are alike. Each one is unique and special. Life would be dreary if everything were identical. Yet we seem uncomfortable with differences and try to impose uniformity. We feel insecure when we come across people who look and think differently. And make enemies of them! This defeats the very purpose of globalisation. True globalisation is the ability to see oneness in the variety of different people\, tap into their respective strengths and marginalise their weaknesses. \nThe ancient Indian sages discovered the art of zeroing in on the One behind the many. They declared the test of spiritual growth as the ability to feel one with all living beings. Yet in our experience we see differences\, demarcations and multiplicity. This talk explains why we see differences\, takes us through the benefits of feeling one and shows the way to see unity in the diversity in the world. \n\n\nRegister for the free talk at http://tiny.cc/april7to10\n\nDownload Invite
URL:https://vedantavision.org/event/the-power-of-one/
LOCATION:Harsiddhi Shakti Temple\, 8521 Riggs Road\, Hyattsville MD 20783
CATEGORIES:US2025,Washington DC / Virginia / Maryland
ATTACH;FMTTYPE=image/jpeg:https://vedantavision.org/wp-content/uploads/2024/05/The-Power-of-One-Feature.jpg
END:VEVENT
END:VCALENDAR