BEGIN:VCALENDAR
VERSION:2.0
PRODID:-//Vedanta Vision - ECPv6.15.20//NONSGML v1.0//EN
CALSCALE:GREGORIAN
METHOD:PUBLISH
X-WR-CALNAME:Vedanta Vision
X-ORIGINAL-URL:https://vedantavision.org
X-WR-CALDESC:Events for Vedanta Vision
REFRESH-INTERVAL;VALUE=DURATION:PT1H
X-Robots-Tag:noindex
X-PUBLISHED-TTL:PT1H
BEGIN:VTIMEZONE
TZID:UTC
BEGIN:STANDARD
TZOFFSETFROM:+0000
TZOFFSETTO:+0000
TZNAME:UTC
DTSTART:20240101T000000
END:STANDARD
END:VTIMEZONE
BEGIN:VEVENT
DTSTART;TZID=UTC:20250411T191500
DTEND;TZID=UTC:20250411T201500
DTSTAMP:20260425T205956
CREATED:20250311T111018Z
LAST-MODIFIED:20250314T100636Z
UID:20017-1744398900-1744402500@vedantavision.org
SUMMARY:Overcoming Life's Challenges
DESCRIPTION:OVERCOMING LIFE’S CHALLENGES\n\nFree Talk by Jaya Row\n\n\n\nThe world is like the ocean with challenges crashing down on us like waves. If you are a skilled surfer\, who knows how to face the waves and ride them\, you enjoy every moment of life’s adventures and experiences. Obstacles do not affect you. They nourish and refresh you. \nThis inspiring talk will present simple ideas and methods to meet life’s challenges with flair and resilience so that you will always emerge triumphant. \n\n\n\n\n\nDownload Invite
URL:https://vedantavision.org/event/overcoming-lifes-challenges-2-5/
LOCATION:Sanatan Mandir of Atlanta\, 1281 Cooper Lake Rd Smyrna\, Atlanta 30082
CATEGORIES:Atlanta,US2025
ATTACH;FMTTYPE=image/png:https://vedantavision.org/wp-content/uploads/2023/03/Overcoming-lifes-challenges-500x280-1.png
END:VEVENT
END:VCALENDAR