BEGIN:VCALENDAR
VERSION:2.0
PRODID:-//Vedanta Vision - ECPv6.15.20//NONSGML v1.0//EN
CALSCALE:GREGORIAN
METHOD:PUBLISH
X-WR-CALNAME:Vedanta Vision
X-ORIGINAL-URL:https://vedantavision.org
X-WR-CALDESC:Events for Vedanta Vision
REFRESH-INTERVAL;VALUE=DURATION:PT1H
X-Robots-Tag:noindex
X-PUBLISHED-TTL:PT1H
BEGIN:VTIMEZONE
TZID:Asia/Kolkata
BEGIN:STANDARD
TZOFFSETFROM:+0530
TZOFFSETTO:+0530
TZNAME:IST
DTSTART:20240101T000000
END:STANDARD
END:VTIMEZONE
BEGIN:VEVENT
DTSTART;TZID=Asia/Kolkata:20250420T160000
DTEND;TZID=Asia/Kolkata:20250420T171500
DTSTAMP:20260425T210000
CREATED:20250312T060010Z
LAST-MODIFIED:20250314T101504Z
UID:20060-1745164800-1745169300@vedantavision.org
SUMMARY:7 Lessons from Bhagavad Gita - Day 1
DESCRIPTION:7 LESSONS FROM BHAGAVAD GITA – DAY 1\n\nFree Talk Series by Jaya Row\n\n\n\nThe world is a wonderful place to live in. Technology has made it even more alluring. But behind the facade of fabulous lifestyles and high-end cars is loneliness\, depression and sorrow. Even those who have reached the pinnacle of success suffer from anxiety\, failed relationships and mental health issues. \nThe Bhagavad Gita gives the technique of living which enables us to live ordinary lives in an extraordinary way. With the help of the Gita people have been able to overcome incredible odds and attain remarkable results. \nThis talk series by Mrs Jaya Row will transform us from an ordinary mortal to an extraordinary immortal! \n\n\nRegister for free: http://tiny.cc/april20to22\n\nDownload Invite
URL:https://vedantavision.org/event/7-lessons-from-bhagavad-gita-day-1-2/
LOCATION:India House\, 8888 West Bellfort Ave\, Houston\, Tx 77031
CATEGORIES:Houston,US2025
ATTACH;FMTTYPE=image/png:https://vedantavision.org/wp-content/uploads/2023/03/7-Lessons-From-Bhagavad-Gita-500x280-1.png
END:VEVENT
END:VCALENDAR