BEGIN:VCALENDAR
VERSION:2.0
PRODID:-//Vedanta Vision - ECPv6.15.20//NONSGML v1.0//EN
CALSCALE:GREGORIAN
METHOD:PUBLISH
X-ORIGINAL-URL:https://vedantavision.org
X-WR-CALDESC:Events for Vedanta Vision
REFRESH-INTERVAL;VALUE=DURATION:PT1H
X-Robots-Tag:noindex
X-PUBLISHED-TTL:PT1H
BEGIN:VTIMEZONE
TZID:UTC
BEGIN:STANDARD
TZOFFSETFROM:+0000
TZOFFSETTO:+0000
TZNAME:UTC
DTSTART:20240101T000000
END:STANDARD
END:VTIMEZONE
BEGIN:VEVENT
DTSTART;TZID=UTC:20250618T180000
DTEND;TZID=UTC:20250618T190000
DTSTAMP:20260425T193557
CREATED:20250516T125036Z
LAST-MODIFIED:20250603T071738Z
UID:21149-1750269600-1750273200@vedantavision.org
SUMMARY:5 Secrets of Happy Relationships
DESCRIPTION:5 SECRETS OF HAPPY RELATIONSHIPS\n\nFree Talk by Jaya Row\n\n\n\nDo you have conflict with the people you love most? Love tainted with selfishness is ‘attachment’. When you are attached you expect a return for your affection. You make demands on people. The relationship becomes conflict-ridden. In the end\, it breaks down and you lose the person.Vedanta steps in with solutions to this problem. \nExpand your mind. Get attached to a wider circle of people. As you get attached to the higher you get detached from the lower. True love is born and your relationships become free from strife. \n\n\n\nNote: 6 to 7 PM\nFollowed by Q&A 7 to 7:30 PM\nand Bhojan Prasadi\n \n\n\nDownload Invite
URL:https://vedantavision.org/event/5-secrets-of-happy-relationships/
LOCATION:Sanatan Centre\, Coulsdon\, 108-112 Chipstead Valley Rd Coulsdon CR5 3BA
CATEGORIES:London,UK2025
ATTACH;FMTTYPE=image/png:https://vedantavision.org/wp-content/uploads/2023/03/Relationships_-Discord-to-Accord-500x280-1.png
END:VEVENT
END:VCALENDAR