BEGIN:VCALENDAR
VERSION:2.0
PRODID:-//Vedanta Vision - ECPv6.15.20//NONSGML v1.0//EN
CALSCALE:GREGORIAN
METHOD:PUBLISH
X-ORIGINAL-URL:https://vedantavision.org
X-WR-CALDESC:Events for Vedanta Vision
REFRESH-INTERVAL;VALUE=DURATION:PT1H
X-Robots-Tag:noindex
X-PUBLISHED-TTL:PT1H
BEGIN:VTIMEZONE
TZID:Asia/Kolkata
BEGIN:STANDARD
TZOFFSETFROM:+0530
TZOFFSETTO:+0530
TZNAME:IST
DTSTART:20250101T000000
END:STANDARD
END:VTIMEZONE
BEGIN:VEVENT
DTSTART;TZID=Asia/Kolkata:20260218T183000
DTEND;TZID=Asia/Kolkata:20260218T194500
DTSTAMP:20260424T054926
CREATED:20260210T100442Z
LAST-MODIFIED:20260210T100518Z
UID:26262-1771439400-1771443900@vedantavision.org
SUMMARY:Weekly Interactive Classes - Every Wednesday
DESCRIPTION:
URL:https://vedantavision.org/event/weekly-interactive-classes-every-wednesday-61/
LOCATION:Seva Sadan School\,\, 1st floor Opp. Gamdevi Police Station\, Pandita Ramabai Road Mumbai 400007\, mumbai\, India
CATEGORIES:Weekly Interactive Classes
ATTACH;FMTTYPE=image/jpeg:https://vedantavision.org/wp-content/uploads/2023/08/Wednesday-class-leaflet.jpg
END:VEVENT
END:VCALENDAR