BEGIN:VCALENDAR
VERSION:2.0
PRODID:-//Vedanta Vision - ECPv6.15.20//NONSGML v1.0//EN
CALSCALE:GREGORIAN
METHOD:PUBLISH
X-WR-CALNAME:Vedanta Vision
X-ORIGINAL-URL:https://vedantavision.org
X-WR-CALDESC:Events for Vedanta Vision
REFRESH-INTERVAL;VALUE=DURATION:PT1H
X-Robots-Tag:noindex
X-PUBLISHED-TTL:PT1H
BEGIN:VTIMEZONE
TZID:UTC
BEGIN:STANDARD
TZOFFSETFROM:+0000
TZOFFSETTO:+0000
TZNAME:UTC
DTSTART:20230101T000000
END:STANDARD
END:VTIMEZONE
BEGIN:VEVENT
DTSTART;TZID=UTC:20250412T180000
DTEND;TZID=UTC:20250412T190000
DTSTAMP:20260424T192417
CREATED:20250303T074352Z
LAST-MODIFIED:20250314T071717Z
UID:19941-1744480800-1744484400@vedantavision.org
SUMMARY:The Paradox of Desire
DESCRIPTION:THE PARADOX OF DESIRE\n\nFree Talk by Jaya Row\n\n\n\nDesire seems to be a great driving force that fuels success. No achievement is possible without desire. Desire is as vital a sign of life as a heartbeat. Yet it is the barrier that stands between you and object of desire. Unbridled desire prevents enjoyment\, destroys relationships and causes sorrow. In extreme cases desire drives people to crime. \nThis talk gets to the root cause of desire. It shows the pathway to harnessing the power of desire to achieve Excellence. Finally it enables you to eradicate desire to rise to Infinite Happiness. \nRegister for free: http://tiny.cc/apr12atlanta \n\n\n\nDownload Invite
URL:https://vedantavision.org/event/the-paradox-of-desire/
LOCATION:Preston Ridge Community Center\, Preston Bridge Rd\, Suite 100\, Alpharetta\, GA 30005
CATEGORIES:Atlanta,US2025
ATTACH;FMTTYPE=image/png:https://vedantavision.org/wp-content/uploads/2025/03/Main-The-Paradox-of-Desire.png
ORGANIZER;CN="MiniTrac":MAILTO:jesal.dave@yahoo.com kdsheth324@gmail.com
END:VEVENT
BEGIN:VEVENT
DTSTART;TZID=UTC:20250411T191500
DTEND;TZID=UTC:20250411T201500
DTSTAMP:20260424T192417
CREATED:20250311T111018Z
LAST-MODIFIED:20250314T100636Z
UID:20017-1744398900-1744402500@vedantavision.org
SUMMARY:Overcoming Life's Challenges
DESCRIPTION:OVERCOMING LIFE’S CHALLENGES\n\nFree Talk by Jaya Row\n\n\n\nThe world is like the ocean with challenges crashing down on us like waves. If you are a skilled surfer\, who knows how to face the waves and ride them\, you enjoy every moment of life’s adventures and experiences. Obstacles do not affect you. They nourish and refresh you. \nThis inspiring talk will present simple ideas and methods to meet life’s challenges with flair and resilience so that you will always emerge triumphant. \n\n\n\n\n\nDownload Invite
URL:https://vedantavision.org/event/overcoming-lifes-challenges-2-5/
LOCATION:Sanatan Mandir of Atlanta\, 1281 Cooper Lake Rd Smyrna\, Atlanta 30082
CATEGORIES:Atlanta,US2025
ATTACH;FMTTYPE=image/png:https://vedantavision.org/wp-content/uploads/2023/03/Overcoming-lifes-challenges-500x280-1.png
END:VEVENT
BEGIN:VEVENT
DTSTART;TZID=UTC:20240428T090000
DTEND;TZID=UTC:20240428T100000
DTSTAMP:20260424T192417
CREATED:20240311T104420Z
LAST-MODIFIED:20240426T061841Z
UID:14684-1714294800-1714298400@vedantavision.org
SUMMARY:Bhagavad Gita's Timeless Lessons
DESCRIPTION:BHAGAVAD GITA’S TIMELESS LESSONS\n\nFree Talk by Jaya Row\n\n\n\nThe Bhagavad Gita is not just a relic from the past. It is a living\, vibrant prescription for life. It confers dynamism\, gives joy and helps you tap into your potential! \nWhat does the Bhagavad Gita offer that is not available in the leading Universities of the world? The Bhagavad Gita is a guide to self-management. Your mindset and attitude play a pivotal role in success. \nThe talk by Mrs Jaya Row will focus on the important lessons that will take you from drudgery to revelry and from misery to magic. \nRegister for free: http://tiny.cc/28apriljayarow \n\n\n\nDownload Invite
URL:https://vedantavision.org/event/bhagavad-gitas-timeless-lessons/
LOCATION:Preston Ridge Community Center\, Preston Bridge Rd\, Suite 100\, Alpharetta\, GA 30005
CATEGORIES:Atlanta,US2024
ATTACH;FMTTYPE=image/png:https://vedantavision.org/wp-content/uploads/2023/03/7-Lessons-From-Bhagavad-Gita-500x280-1.png
ORGANIZER;CN="Vedanta Vision":MAILTO:Praksha Patel prakshac2000@gmail.com
END:VEVENT
BEGIN:VEVENT
DTSTART;TZID=UTC:20240427T145000
DTEND;TZID=UTC:20240427T153000
DTSTAMP:20260424T192417
CREATED:20240322T112014Z
LAST-MODIFIED:20240401T064054Z
UID:15090-1714229400-1714231800@vedantavision.org
SUMMARY:Goodbye Stress Hello Success
DESCRIPTION:GOODBYE STRESS HELLO SUCCESS\n\nFree Talk by Jaya Row\n\n\n\nThe world does not have the power to trouble you. You are the cause of your stress. You have no control over anything in the world except yourself. So look within. Change your attitude. Stress will reduce. With a calm mind you will achieve effortless excellence. Thus you will be happy and successful. \n\n\n\nDownload Invite
URL:https://vedantavision.org/event/goodbye-stress-hello-success/
LOCATION:IACA’s Women’s Forum\, 1281 Cooper Lake Road\, SE\, Smyrna GA 30082
CATEGORIES:Atlanta,US2024
ATTACH;FMTTYPE=image/jpeg:https://vedantavision.org/wp-content/uploads/2024/03/Goodbye-Stress-Hello-Success-500x280-1.jpg
ORGANIZER;CN="India American Cultural Association":MAILTO:jyothsna.hegde@gmail.com
END:VEVENT
BEGIN:VEVENT
DTSTART;TZID=UTC:20240427T134500
DTEND;TZID=UTC:20240427T142500
DTSTAMP:20260424T192417
CREATED:20240322T110909Z
LAST-MODIFIED:20240401T113312Z
UID:15077-1714225500-1714227900@vedantavision.org
SUMMARY:Awaken the Leader in You
DESCRIPTION:AWAKEN THE LEADER IN YOU\n\nFree Talk by Jaya Row\n\n\n\nVedanta\, the science of self-management\, provides rare insights into the human mind. It helps an ordinary person transform into an extraordinary leader. A leader inspires people with a higher goal\, a common purpose. S/he is able to build teams\, identify the latent talent and help individuals become star performers. \nThe talk helps uncover our intangible assets and awakens us to our abundance. It enables us to transcend the limitations of our personality and take off into realms of perfection. Be it in the field of sport\, music\, business or art\, the roadblocks are in the mind. The talk helps overcome them and hones our talent to achieve excellence. \n\n\n\nNote: Break 2.25 – 2.45 PM \n\n\nDownload Invite
URL:https://vedantavision.org/event/awaken-the-leader-in-you-4/
LOCATION:IACA’s Women’s Forum\, 1281 Cooper Lake Road\, SE\, Smyrna GA 30082
CATEGORIES:Atlanta,US2024
ATTACH;FMTTYPE=image/png:https://vedantavision.org/wp-content/uploads/2023/03/Awaken-the-Leader-in-You-500x280-1.png
ORGANIZER;CN="India American Cultural Association":MAILTO:jyothsna.hegde@gmail.com
END:VEVENT
BEGIN:VEVENT
DTSTART;TZID=UTC:20240426T191500
DTEND;TZID=UTC:20240426T201500
DTSTAMP:20260424T192417
CREATED:20240412T072606Z
LAST-MODIFIED:20240416T103842Z
UID:15287-1714158900-1714162500@vedantavision.org
SUMMARY:Karma\, Life & Beyond
DESCRIPTION:KARMA\, LIFE & BEYOND\nFree Talk by Jaya Row\n\n\n\nThe human being alone is gifted with choice of action. With this you determine your future. If you look at your past you are a victim. With reference to the future you are a victor. Irrespective of your past you can choose to be better and nobler. \nCome and listen to one of the most powerful speakers of our time as Mrs. Jaya Row provides an incisive analysis on the role of destiny and karma in our lives. \n\n Note:   \nDinner 6 – 7 pm\nArti 7 pm\nTalk 7.15 – 8.15 pm \n\n\n\n\nDownload Invite
URL:https://vedantavision.org/event/karma-life-beyond-2/
LOCATION:Sanatan Mandir of Atlanta\, 1281 Cooper Lake Rd Smyrna\, Atlanta 30082
CATEGORIES:Atlanta,US2024
ATTACH;FMTTYPE=image/png:https://vedantavision.org/wp-content/uploads/2023/03/Karma-Life-Beyond-500x280-1.png
END:VEVENT
END:VCALENDAR