BEGIN:VCALENDAR
VERSION:2.0
PRODID:-//Vedanta Vision - ECPv6.15.20//NONSGML v1.0//EN
CALSCALE:GREGORIAN
METHOD:PUBLISH
X-WR-CALNAME:Vedanta Vision
X-ORIGINAL-URL:https://vedantavision.org
X-WR-CALDESC:Events for Vedanta Vision
REFRESH-INTERVAL;VALUE=DURATION:PT1H
X-Robots-Tag:noindex
X-PUBLISHED-TTL:PT1H
BEGIN:VTIMEZONE
TZID:UTC
BEGIN:STANDARD
TZOFFSETFROM:+0000
TZOFFSETTO:+0000
TZNAME:UTC
DTSTART:20230101T000000
END:STANDARD
END:VTIMEZONE
BEGIN:VTIMEZONE
TZID:Asia/Kolkata
BEGIN:STANDARD
TZOFFSETFROM:+0530
TZOFFSETTO:+0530
TZNAME:IST
DTSTART:20230101T000000
END:STANDARD
END:VTIMEZONE
BEGIN:VEVENT
DTSTART;TZID=UTC:20250426T163000
DTEND;TZID=UTC:20250426T173000
DTSTAMP:20260424T192418
CREATED:20250327T063059Z
LAST-MODIFIED:20250327T065437Z
UID:20469-1745685000-1745688600@vedantavision.org
SUMMARY:Inspired Living
DESCRIPTION:INSPIRED LIVING\n\nFree Talk by Jaya Row\n\n\n\nHow many of us wake up inspired\, looking forward to the day’s work? Who among us finds exhilaration in contributing to society by adding value to others? When you’re enthusiastic about serving the world\, your life will transform overnight. You can redefine norms and attain the impossible\, paving the way for outstanding success. You find happiness at work\, not in escaping from it. Most importantly\, you evolve into a towering personality. \nInspiration gives ordinary people the courage to make life better for themselves and future generations. The world does not need exceptionally talented or intelligent people. It needs ordinary people with extraordinary motivation. \n\n\n\n\n\nDownload Invite
URL:https://vedantavision.org/event/inspired-living-5/
LOCATION:Sri Sharadamba Temple\, 1635 S Main St\, Milpitas\, CA 95035
CATEGORIES:Bay Area,US2025
ATTACH;FMTTYPE=image/png:https://vedantavision.org/wp-content/uploads/2023/03/Inspired-Living-500x280-1.png
END:VEVENT
BEGIN:VEVENT
DTSTART;TZID=Asia/Kolkata:20250426T110000
DTEND;TZID=Asia/Kolkata:20250426T120000
DTSTAMP:20260424T192418
CREATED:20250312T063057Z
LAST-MODIFIED:20250414T060924Z
UID:20097-1745665200-1745668800@vedantavision.org
SUMMARY:Finding Joy in Everyday Life
DESCRIPTION:FINDING JOY IN EVERYDAY LIFE\n\nFree Talk by Jaya Row\n\n\n\nWhat comes in the way of your finding joy here and now? The mind is fickle\, unsteady\, and never in the present moment. It meanders to the dead past and unborn future. As a result\, the mind is rarely in the present. Then you miss all the beautiful moments that you can enjoy\, savour and be happy with. \nYou may have the most delicious meal or an exquisite sight before you. A child may be playing in the garden. You may be sitting with a loved one. You are unable to enjoy the moment because your mind is preoccupied elsewhere! You miss all the joyful moments that life presents because your mind is agitated and disturbed over something or the other\, all the time. \nWhen the mind is free from unnecessary worries and anxieties it remains calm and in the present. Then you achieve outstanding success\, happiness and evolve spiritually! \n\n\nRegister for free: http://tiny.cc/apr26cupertino\n\nDownload Invite
URL:https://vedantavision.org/event/finding-joy-in-everyday-life/
LOCATION:Neena & Kapil Bhatnagar’s home\, 20303 Cartwright Way Cupertino CA 95014
CATEGORIES:Bay Area,US2025
ATTACH;FMTTYPE=image/png:https://vedantavision.org/wp-content/uploads/2025/03/Main-Finding-Joy-in-Everyday-Life.png
ORGANIZER;CN="Neena and Kapil Bhatnagar":MAILTO:neenalb@yahoo.com
END:VEVENT
BEGIN:VEVENT
DTSTART;TZID=UTC:20240423T180000
DTEND;TZID=UTC:20240423T190000
DTSTAMP:20260424T192418
CREATED:20240418T100624Z
LAST-MODIFIED:20240419T074000Z
UID:15311-1713895200-1713898800@vedantavision.org
SUMMARY:Inspired Living - ONLINE
DESCRIPTION:INSPIRED LIVING\n\nFree Online Talk by Jaya Row\n\n\n\nHow many of us wake up inspired\, looking forward to the day’s work? Who among us finds exhilaration in contributing to society by adding value to others? When you’re enthusiastic about serving the world\, your life will transform overnight. You can redefine norms and attain the impossible\, paving the way for outstanding success. You find happiness at work\, not in escaping from it. Most importantly\, you evolve into a towering personality. \nInspiration gives ordinary people the courage to make life better for themselves and future generations. The world does not need exceptionally talented or intelligent people. It needs ordinary people with extraordinary motivation. \nONLINE TALK ON ZOOM\nRegister for free NOW: http://tiny.cc/jayarow22\nAll are welcome. Registration is mandatory. \nZoom: Meeting ID: 824 8333 0301\nPasscode: 1234\nInvite Link: https://bit.ly/JayaR \n\n\n\nDownload Invite
URL:https://vedantavision.org/event/inspired-living-online/
LOCATION:Online on Zoom
CATEGORIES:Bay Area,US2024
ATTACH;FMTTYPE=image/png:https://vedantavision.org/wp-content/uploads/2023/03/Inspired-Living-500x280-1.png
END:VEVENT
BEGIN:VEVENT
DTSTART;TZID=UTC:20240422T180000
DTEND;TZID=UTC:20240422T190000
DTSTAMP:20260424T192418
CREATED:20240418T100437Z
LAST-MODIFIED:20240419T073948Z
UID:15309-1713808800-1713812400@vedantavision.org
SUMMARY:Goodbye Stress Hello Success - ONLINE
DESCRIPTION:GOODBYE STRESS HELLO SUCCESS\n\nFree Online Talk by Jaya Row\n\n\n\nThe world does not have the power to trouble you. You are the cause of your stress. You have no control over anything in the world except yourself. So look within. Change your attitude. Stress will reduce. With a calm mind you will achieve effortless excellence. Thus you will be happy and successful. \nONLINE TALK ON ZOOM \nRegister for free NOW: http://tiny.cc/jayarow22\nAll are welcome. Registration is mandatory. \nZoom: Meeting ID: 824 8333 0301\nPasscode: 1234\nInvite Link: https://bit.ly/JayaR \n\n\n\nDownload Invite
URL:https://vedantavision.org/event/goodbye-stress-hello-success-online/
LOCATION:Online on Zoom
CATEGORIES:Bay Area,US2024
ATTACH;FMTTYPE=image/jpeg:https://vedantavision.org/wp-content/uploads/2024/03/Goodbye-Stress-Hello-Success-500x280-1.jpg
END:VEVENT
BEGIN:VEVENT
DTSTART;TZID=Asia/Kolkata:20240421T170000
DTEND;TZID=Asia/Kolkata:20240421T180000
DTSTAMP:20260424T192418
CREATED:20240311T103516Z
LAST-MODIFIED:20240401T104435Z
UID:14678-1713718800-1713722400@vedantavision.org
SUMMARY:7 Lessons From Bhagavad Gita
DESCRIPTION:7 LESSONS FROM BHAGAVAD GITA\n\nFree Talk by Jaya Row\n\n\n\nThe Bhagavad Gita is not just a relic from the past. It is a living\, vibrant prescription for life. It confers dynamism\, gives joy and helps you tap into your potential! \nWhat does the Bhagavad Gita offer that is not available in the leading Universities of the world? The Bhagavad Gita is a guide to self-management. Your mindset and attitude play a pivotal role in success. \nThe talk by Mrs Jaya Row will focus on the 7 most important lessons that will take you from drudgery to revelry and from misery to magic. \n\n\n\nDownload Invite
URL:https://vedantavision.org/event/7-lessons-from-bhagavad-gita-4/
LOCATION:Sri Sharadamba Temple\, 1635 S Main St\, Milpitas\, CA 95035
CATEGORIES:Bay Area,US2024
ATTACH;FMTTYPE=image/png:https://vedantavision.org/wp-content/uploads/2023/03/7-Lessons-From-Bhagavad-Gita-500x280-1.png
END:VEVENT
BEGIN:VEVENT
DTSTART;TZID=Asia/Kolkata:20240421T113000
DTEND;TZID=Asia/Kolkata:20240421T140000
DTSTAMP:20260424T192418
CREATED:20240311T103054Z
LAST-MODIFIED:20240419T080057Z
UID:14681-1713699000-1713708000@vedantavision.org
SUMMARY:India's Gift of Happiness: A Spiritual Legacy
DESCRIPTION:“INDIA’S GIFT OF HAPPINESS: A SPIRITUAL LEGACY”\n\nFree Talk by Jaya Row\n\n\n\nAn enlightened master in India said\, “If you are not happy as you are\, where you are\, you will never be happy.” Yet everyone is waiting for one or two things to change to be happy. You achieve that one thing and another comes in its place. This goes on all your life. You suffer from the JATC Syndrome – you believe that happiness is Just Around The Corner! Vedanta offers a profound solution to this. \nVedanta is the world’s foremost school of thought on self-management. It finds its origin in the Vedas\, the ancient scriptures of India. Vedanta is a universal knowledge applicable to people from all walks of life irrespective of their nationality\, culture and religious background. \nVedanta gives the formula for happiness. It helps you focus on the abundance you have been bestowed with. When you look at the millions of things you enjoy\, you will be grateful for the bounty conferred upon you. Then\, the few things you do not have become irrelevant. \n\n\n\nNote: Talk 11.30 – 12:30 Q&A 12:30 – 1 pm Snacks 1 – 2 pm \n\n\nDownload Invite
URL:https://vedantavision.org/event/indias-gift-of-happiness-a-spiritual-legacy/
LOCATION:Senior Center\, 21251 Stevens creek Blvd. Cupertino\, CA 95014
CATEGORIES:Bay Area,US2024
ATTACH;FMTTYPE=image/jpeg:https://vedantavision.org/wp-content/uploads/2024/03/jaya-row_i.jpg
END:VEVENT
BEGIN:VEVENT
DTSTART;TZID=Asia/Kolkata:20240420T110000
DTEND;TZID=Asia/Kolkata:20240420T123000
DTSTAMP:20260424T192418
CREATED:20240322T104845Z
LAST-MODIFIED:20240416T094509Z
UID:15072-1713610800-1713616200@vedantavision.org
SUMMARY:Fate\, Free Will & Law of Karma
DESCRIPTION:FATE\, FREE WILL & LAW OF KARMA\n\nFree Talk by Jaya Row\n\n\n\nThe human being alone is gifted with choice of action. With this you determine your future. If you look at your past you are a victim. With reference to the future you are a victor. Irrespective of your past you can choose to be better and nobler. \nCome and listen to one of the most powerful speakers of our time as Mrs. Jaya Row provides an incisive analysis on the role of destiny and karma in our lives. \n\n\n\nDownload Invite
URL:https://vedantavision.org/event/fate-free-will-law-of-karma/
LOCATION:Shreemaya Krishnadham\,\, 175 Nortech Parkway San Jose\, CA 95134
CATEGORIES:Bay Area,US2024
ATTACH;FMTTYPE=image/png:https://vedantavision.org/wp-content/uploads/2023/03/Karma-Life-Beyond-500x280-1.png
END:VEVENT
BEGIN:VEVENT
DTSTART;TZID=Asia/Kolkata:20240418T120000
DTEND;TZID=Asia/Kolkata:20240418T130000
DTSTAMP:20260424T192418
CREATED:20240321T072249Z
LAST-MODIFIED:20240401T112945Z
UID:15028-1713441600-1713445200@vedantavision.org
SUMMARY:Talk at Apple - Pursuing Excellence
DESCRIPTION:PURSUING EXCELLENCE\n\nTalk at Apple by Jaya Row\n\n\n\nA Harvard University study indicates that only 15% of success comes from information\, while 85% comes from attitude. Yet\, 100% of modern education focuses only on facts and figures! \nMrs. Jaya Row’s talk delves into the power of attitude. It elevates your skills and refines your personality. At the pinnacle\, what separates a great hopeful from a great achiever is the ability to cultivate the right attitude. \nJust as a gadget needs an instruction manual\, understanding the inner workings of the human personality is crucial for utilizing one’s inner equipment effectively. \nThis talk: \n– Outlines the path to Perfection\n– Unveils obstacles to success and how to overcome them\n– Provides timeless truths for modern life \nRegister for free: http://tiny.cc/18aprilapple \n\n\n\nNote: Register for free and stay updated http://tiny.cc/18aprilapple \n\n\nDownload Invite
URL:https://vedantavision.org/event/talk-at-apple-pursuing-excellence/
LOCATION:Apple\, Cupertino
CATEGORIES:Bay Area,US2024
ATTACH;FMTTYPE=image/png:https://vedantavision.org/wp-content/uploads/2023/03/Purpose-Driven-Life-500x280-1.png
END:VEVENT
END:VCALENDAR