BEGIN:VCALENDAR
VERSION:2.0
PRODID:-//Vedanta Vision - ECPv6.15.20//NONSGML v1.0//EN
CALSCALE:GREGORIAN
METHOD:PUBLISH
X-WR-CALNAME:Vedanta Vision
X-ORIGINAL-URL:https://vedantavision.org
X-WR-CALDESC:Events for Vedanta Vision
REFRESH-INTERVAL;VALUE=DURATION:PT1H
X-Robots-Tag:noindex
X-PUBLISHED-TTL:PT1H
BEGIN:VTIMEZONE
TZID:Europe/London
BEGIN:DAYLIGHT
TZOFFSETFROM:+0000
TZOFFSETTO:+0100
TZNAME:BST
DTSTART:20230326T010000
END:DAYLIGHT
BEGIN:STANDARD
TZOFFSETFROM:+0100
TZOFFSETTO:+0000
TZNAME:GMT
DTSTART:20231029T010000
END:STANDARD
BEGIN:DAYLIGHT
TZOFFSETFROM:+0000
TZOFFSETTO:+0100
TZNAME:BST
DTSTART:20240331T010000
END:DAYLIGHT
BEGIN:STANDARD
TZOFFSETFROM:+0100
TZOFFSETTO:+0000
TZNAME:GMT
DTSTART:20241027T010000
END:STANDARD
BEGIN:DAYLIGHT
TZOFFSETFROM:+0000
TZOFFSETTO:+0100
TZNAME:BST
DTSTART:20250330T010000
END:DAYLIGHT
BEGIN:STANDARD
TZOFFSETFROM:+0100
TZOFFSETTO:+0000
TZNAME:GMT
DTSTART:20251026T010000
END:STANDARD
END:VTIMEZONE
BEGIN:VEVENT
DTSTART;TZID=Europe/London:20240608T173000
DTEND;TZID=Europe/London:20240608T183000
DTSTAMP:20260425T073826
CREATED:20240509T142654Z
LAST-MODIFIED:20240608T055211Z
UID:15611-1717867800-1717871400@vedantavision.org
SUMMARY:Building Enduring Relationships
DESCRIPTION:BUILDING ENDURING RELATIONSHIPS\n\nFree Talk by Jaya Row\n\n\n\nDo you have conflict with the people you love most? Love tainted with selfishness is ‘attachment’. When you are attached you expect a return for your affection. You make demands on people. The relationship becomes conflict-ridden. In the end\, it breaks down and you lose the person.Vedanta steps in with solutions to this problem. \nExpand your mind. Get attached to a wider circle of people. As you get attached to the higher you get detached from the lower. True love is born and your relationships become free from strife. \n\n\n\nDownload Invite
URL:https://vedantavision.org/event/building-enduring-relationships-2/
LOCATION:Shree Geeta Bhawan\, 107-117 Heathfield Rd\, Handsworth Birmingham B19 1HL
CATEGORIES:Birmingham,UK2024
ATTACH;FMTTYPE=image/png:https://vedantavision.org/wp-content/uploads/2023/03/Relationships_-Discord-to-Accord-500x280-1.png
END:VEVENT
BEGIN:VEVENT
DTSTART;TZID=Europe/London:20240608T140000
DTEND;TZID=Europe/London:20240608T150000
DTSTAMP:20260425T073826
CREATED:20240523T061923Z
LAST-MODIFIED:20240608T055132Z
UID:15907-1717855200-1717858800@vedantavision.org
SUMMARY:7 Lessons From Bhagavad Gita
DESCRIPTION:7 LESSONS FROM BHAGAVAD GITA\n\nFree Talk by Jaya Row\n\n\n\nThe Bhagavad Gita is not just a relic from the past. It is a living\, vibrant prescription for life. It confers dynamism\, gives joy and helps you tap into your potential! \nWhat does the Bhagavad Gita offer that is not available in the leading Universities of the world? The Bhagavad Gita is a guide to self-management. Your mindset and attitude play a pivotal role in success. \nThis talk by Mrs Jaya Row will focus on the 7 most important lessons that will take you from drudgery to revelry and from misery to magic. \n\n\n\nNote: For queries: 0121 544 2256\nWhatsApp +91 98202 32939 \n\n\nDownload Invite
URL:https://vedantavision.org/event/7-lessons-from-bhagavad-gita-9/
LOCATION:Shri Venkateswara (Balaji) Temple\,\, Community Hall\, 101 Dudley Road East\, Tividale\, West Midlands B69 3DU
CATEGORIES:Birmingham,UK2024
ATTACH;FMTTYPE=image/png:https://vedantavision.org/wp-content/uploads/2023/03/7-Lessons-From-Bhagavad-Gita-500x280-1.png
END:VEVENT
END:VCALENDAR