BEGIN:VCALENDAR
VERSION:2.0
PRODID:-//Vedanta Vision - ECPv6.15.20//NONSGML v1.0//EN
CALSCALE:GREGORIAN
METHOD:PUBLISH
X-ORIGINAL-URL:https://vedantavision.org
X-WR-CALDESC:Events for Vedanta Vision
REFRESH-INTERVAL;VALUE=DURATION:PT1H
X-Robots-Tag:noindex
X-PUBLISHED-TTL:PT1H
BEGIN:VTIMEZONE
TZID:UTC
BEGIN:STANDARD
TZOFFSETFROM:+0000
TZOFFSETTO:+0000
TZNAME:UTC
DTSTART:20230101T000000
END:STANDARD
END:VTIMEZONE
BEGIN:VEVENT
DTSTART;TZID=UTC:20240609T103000
DTEND;TZID=UTC:20240609T123000
DTSTAMP:20260425T072312
CREATED:20240523T072331Z
LAST-MODIFIED:20240608T055311Z
UID:15948-1717929000-1717936200@vedantavision.org
SUMMARY:Overcoming Life's Challenges
DESCRIPTION:OVERCOMING LIFE’S CHALLENGES\n\nFree Talk by Jaya Row\n\n\n\nThe world is like the ocean with challenges crashing down on us like waves. \nIf you are a skilled surfer\, who knows how to face the waves and ride them\, you enjoy every moment of life’s adventures and experiences. Obstacles do not affect you. They nourish and refresh you. \nThis inspiring talk will present simple ideas and methods to meet life’s challenges with flair and resilience so that you will always emerge triumphant. \n\n\n\nNote: Talk: 10.30 am – 12.30 pm\nIncluding Q & A \n\n\nDownload Invite
URL:https://vedantavision.org/event/overcoming-lifes-challenges-2-4/
LOCATION:Shree Krishna Temple\, Harnall Lane West Coventry CV1 4EZ
CATEGORIES:Coventry,UK2024
ATTACH;FMTTYPE=image/png:https://vedantavision.org/wp-content/uploads/2023/03/Overcoming-lifes-challenges-500x280-1.png
END:VEVENT
END:VCALENDAR