BEGIN:VCALENDAR
VERSION:2.0
PRODID:-//Vedanta Vision - ECPv6.15.20//NONSGML v1.0//EN
CALSCALE:GREGORIAN
METHOD:PUBLISH
X-WR-CALNAME:Vedanta Vision
X-ORIGINAL-URL:https://vedantavision.org
X-WR-CALDESC:Events for Vedanta Vision
REFRESH-INTERVAL;VALUE=DURATION:PT1H
X-Robots-Tag:noindex
X-PUBLISHED-TTL:PT1H
BEGIN:VTIMEZONE
TZID:Asia/Kolkata
BEGIN:STANDARD
TZOFFSETFROM:+0530
TZOFFSETTO:+0530
TZNAME:IST
DTSTART:20230101T000000
END:STANDARD
END:VTIMEZONE
BEGIN:VEVENT
DTSTART;TZID=Asia/Kolkata:20250418T180000
DTEND;TZID=Asia/Kolkata:20250418T190000
DTSTAMP:20260424T193913
CREATED:20250417T124235Z
LAST-MODIFIED:20250417T152617Z
UID:20684-1744999200-1745002800@vedantavision.org
SUMMARY:Bhagavad Gita for an Extraordinary Life
DESCRIPTION:BHAGAVAD GITA FOR AN EXTRAORDINARY LIFE\n\nFree Talk by Jaya Row\n\n\n\nThe world is a wonderful place to live in. Technology has made it even more alluring. But behind the facade of fabulous lifestyles and high-end cars is loneliness\, depression and sorrow. \nThe Bhagavad Gita gives the technique of living which enables us to live ordinary lives in an extraordinary way. The Gita enables you to overcome incredible odds and attain remarkable results. \nFriday April 18\n6 – 7 pm CDT\n7 to 8 PM EDT\n4 to 5 PM PDT\n\n\n\nRSVP now http://tiny.cc/april18 \n\n\nDownload Invite
URL:https://vedantavision.org/event/bhagavad-gita-for-an-extraordinary-life-3/
LOCATION:Virtual Talk on Zoom
CATEGORIES:Dallas,US2025
ATTACH;FMTTYPE=image/png:https://vedantavision.org/wp-content/uploads/2025/03/Main-Bhagavad-Gita-for-a-Successful-Mindset.png
ORGANIZER;CN="Soniya Hiremath":MAILTO:contact@vedantavision.com
END:VEVENT
BEGIN:VEVENT
DTSTART;TZID=Asia/Kolkata:20250417T190000
DTEND;TZID=Asia/Kolkata:20250417T201500
DTSTAMP:20260424T193913
CREATED:20250311T113255Z
LAST-MODIFIED:20250404T124101Z
UID:20031-1744916400-1744920900@vedantavision.org
SUMMARY:Bhagavad Gita for a Successful Mindset - Day 3
DESCRIPTION:BHAGAVAD GITA FOR A SUCCESSFUL MINDSET – DAY 3\nFree Talk Series by Jaya Row\n\n\n\nA Harvard University study indicates that only 15% of success comes from information\, while 85% comes from attitude. Yet\, 100% of modern education focuses only on facts and figures! \nThis talk series by Mrs Jaya Row delves into the power of attitude. It elevates your skills and refines your personality. At the pinnacle\, what separates a great hopeful from a great achiever is the ability to cultivate the right attitude. \n\n\n\nNote: 3-Day Talk Series \nRSVP tiny.cc/april15to17 \nSeating 6.30 pm\nSoulful Chants 6.45 pm\nTalk 7 – 8 pm\nQ&A 8 – 8.15 pm\nFollowed by Light Dinner \nRegister for free: http://tiny.cc/april15to17 \n\n\nDownload Invite
URL:https://vedantavision.org/event/bhagavad-gita-for-a-successful-mindset-day-3/
LOCATION:Shubham Event Center\, 2429 Preston Road #300 Frisco TX 75034
CATEGORIES:Dallas,US2025
ATTACH;FMTTYPE=image/png:https://vedantavision.org/wp-content/uploads/2025/03/Main-Bhagavad-Gita-for-a-Successful-Mindset.png
END:VEVENT
BEGIN:VEVENT
DTSTART;TZID=Asia/Kolkata:20250416T190000
DTEND;TZID=Asia/Kolkata:20250416T201500
DTSTAMP:20260424T193913
CREATED:20250311T113247Z
LAST-MODIFIED:20250404T123727Z
UID:20030-1744830000-1744834500@vedantavision.org
SUMMARY:Bhagavad Gita for a Successful Mindset - Day 2
DESCRIPTION:BHAGAVAD GITA FOR A SUCCESSFUL MINDSET – DAY 2\nFree Talk Series by Jaya Row\n\n\n\nA Harvard University study indicates that only 15% of success comes from information\, while 85% comes from attitude. Yet\, 100% of modern education focuses only on facts and figures! \nThis talk series by Mrs Jaya Row delves into the power of attitude. It elevates your skills and refines your personality. At the pinnacle\, what separates a great hopeful from a great achiever is the ability to cultivate the right attitude. \n\n\n\nNote: 3-Day Talk Series \nRSVP tiny.cc/april15to17 \nSeating 6.30 pm\nSoulful Chants 6.45 pm\nTalk 7 – 8 pm\nQ&A 8 – 8.15 pm\nFollowed by Light Dinner \nRegister for free: http://tiny.cc/april15to17 \n\n\nDownload Invite
URL:https://vedantavision.org/event/bhagavad-gita-for-a-successful-mindset-day-2/
LOCATION:Shubham Event Center\, 2429 Preston Road #300 Frisco TX 75034
CATEGORIES:Dallas,US2025
ATTACH;FMTTYPE=image/png:https://vedantavision.org/wp-content/uploads/2025/03/Main-Bhagavad-Gita-for-a-Successful-Mindset.png
END:VEVENT
BEGIN:VEVENT
DTSTART;TZID=Asia/Kolkata:20250415T190000
DTEND;TZID=Asia/Kolkata:20250415T201500
DTSTAMP:20260424T193913
CREATED:20250311T112356Z
LAST-MODIFIED:20250404T123856Z
UID:20023-1744743600-1744748100@vedantavision.org
SUMMARY:Bhagavad Gita for a Successful Mindset - Day 1
DESCRIPTION:BHAGAVAD GITA FOR A SUCCESSFUL MINDSET – DAY 1\nFree Talk Series by Jaya Row\n\n\n\nA Harvard University study indicates that only 15% of success comes from information\, while 85% comes from attitude. Yet\, 100% of modern education focuses only on facts and figures! \nThis talk series by Mrs Jaya Row delves into the power of attitude. It elevates your skills and refines your personality. At the pinnacle\, what separates a great hopeful from a great achiever is the ability to cultivate the right attitude. \n\n\n\nNote: 3-Day Talk Series \nRSVP tiny.cc/april15to17 \nSeating 6.30 pm\nSoulful Chants 6.45 pm\nTalk 7 – 8 pm\nQ&A 8 – 8.15 pm\nFollowed by Light Dinner \nRegister for free: http://tiny.cc/april15to17 \n\n\nDownload Invite
URL:https://vedantavision.org/event/bhagavad-gita-for-a-successful-mindset-day-1/
LOCATION:Shubham Event Center\, 2429 Preston Road #300 Frisco TX 75034
CATEGORIES:Dallas,US2025
ATTACH;FMTTYPE=image/png:https://vedantavision.org/wp-content/uploads/2025/03/Main-Bhagavad-Gita-for-a-Successful-Mindset.png
END:VEVENT
BEGIN:VEVENT
DTSTART;TZID=Asia/Kolkata:20240416T190000
DTEND;TZID=Asia/Kolkata:20240416T200000
DTSTAMP:20260424T193913
CREATED:20240327T074156Z
LAST-MODIFIED:20240403T065356Z
UID:15128-1713294000-1713297600@vedantavision.org
SUMMARY:7 Lessons from Bhagavad Gita - Day 3
DESCRIPTION:7 LESSONS FROM BHAGAVAD GITA DAY 3\n\nFree Talk by Jaya Row\n\n\n\nThe Bhagavad Gita is not just a relic from the past. It is a living\, vibrant prescription for life. It confers dynamism\, gives joy and helps you tap into your potential! \nWhat does the Bhagavad Gita offer that is not available in the leading Universities of the world? The Bhagavad Gita is a guide to self-management. Your mindset and attitude play a pivotal role in success. \nThe talk by Mrs Jaya Row will focus on the 7 most important lessons that will take you from drudgery to revelry and from misery to magic. \n\n\n\nNote: Q&A 8 – 8.15 pm The talk will be followed by Prasad \n\n\nDownload Invite
URL:https://vedantavision.org/event/7-lessons-from-bhagavad-gita-day-3/
LOCATION:Shree Raghunath Temple\, 8901 Independence Pkwy Suite 100\, Plano Texas 75025
CATEGORIES:Dallas,US2024
ATTACH;FMTTYPE=image/png:https://vedantavision.org/wp-content/uploads/2023/03/7-Lessons-From-Bhagavad-Gita-500x280-1.png
END:VEVENT
BEGIN:VEVENT
DTSTART;TZID=Asia/Kolkata:20240415T200000
DTEND;TZID=Asia/Kolkata:20240415T204500
DTSTAMP:20260424T193913
CREATED:20240327T074029Z
LAST-MODIFIED:20240403T065340Z
UID:15125-1713211200-1713213900@vedantavision.org
SUMMARY:7 Lessons from Bhagavad Gita - Day 2
DESCRIPTION:7 LESSONS FROM BHAGAVAD GITA DAY 2\n\nFree Talk by Jaya Row\n\n\n\nThe Bhagavad Gita is not just a relic from the past. It is a living\, vibrant prescription for life. It confers dynamism\, gives joy and helps you tap into your potential! \nWhat does the Bhagavad Gita offer that is not available in the leading Universities of the world? The Bhagavad Gita is a guide to self-management. Your mindset and attitude play a pivotal role in success. \nThe talk by Mrs Jaya Row will focus on the 7 most important lessons that will take you from drudgery to revelry and from misery to magic. \n\n\n\nNote: Q&A 8.45 – 9.00 pm The talk will be followed by Prasad \n\n\nDownload Invite
URL:https://vedantavision.org/event/7-lessons-from-bhagavad-gita-day-2/
LOCATION:Shree Raghunath Temple\, 8901 Independence Pkwy Suite 100\, Plano Texas 75025
CATEGORIES:Dallas,US2024
ATTACH;FMTTYPE=image/png:https://vedantavision.org/wp-content/uploads/2023/03/7-Lessons-From-Bhagavad-Gita-500x280-1.png
END:VEVENT
BEGIN:VEVENT
DTSTART;TZID=Asia/Kolkata:20240414T190000
DTEND;TZID=Asia/Kolkata:20240414T200000
DTSTAMP:20260424T193913
CREATED:20240327T073625Z
LAST-MODIFIED:20240403T065329Z
UID:15122-1713121200-1713124800@vedantavision.org
SUMMARY:7 Lessons from Bhagavad Gita - Day 1
DESCRIPTION:7 LESSONS FROM BHAGAVAD GITA DAY 1\n\nFree Talk by Jaya Row\n\n\n\nThe Bhagavad Gita is not just a relic from the past. It is a living\, vibrant prescription for life. It confers dynamism\, gives joy and helps you tap into your potential! \nWhat does the Bhagavad Gita offer that is not available in the leading Universities of the world? The Bhagavad Gita is a guide to self-management. Your mindset and attitude play a pivotal role in success. \nThe talk by Mrs Jaya Row will focus on the 7 most important lessons that will take you from drudgery to revelry and from misery to magic. \n\n\n\nNote: Q&A 8 – 8.15 pm\nThe talk will be followed by Prasad \n\n\nDownload Invite
URL:https://vedantavision.org/event/7-lessons-from-bhagavad-gita-day-1/
LOCATION:Shree Raghunath Temple\, 8901 Independence Pkwy Suite 100\, Plano Texas 75025
CATEGORIES:Dallas,US2024
ATTACH;FMTTYPE=image/png:https://vedantavision.org/wp-content/uploads/2023/03/7-Lessons-From-Bhagavad-Gita-500x280-1.png
END:VEVENT
END:VCALENDAR