BEGIN:VCALENDAR
VERSION:2.0
PRODID:-//Vedanta Vision - ECPv6.15.20//NONSGML v1.0//EN
CALSCALE:GREGORIAN
METHOD:PUBLISH
X-WR-CALNAME:Vedanta Vision
X-ORIGINAL-URL:https://vedantavision.org
X-WR-CALDESC:Events for Vedanta Vision
REFRESH-INTERVAL;VALUE=DURATION:PT1H
X-Robots-Tag:noindex
X-PUBLISHED-TTL:PT1H
BEGIN:VTIMEZONE
TZID:Asia/Kolkata
BEGIN:STANDARD
TZOFFSETFROM:+0530
TZOFFSETTO:+0530
TZNAME:IST
DTSTART:20240101T000000
END:STANDARD
END:VTIMEZONE
BEGIN:VTIMEZONE
TZID:UTC
BEGIN:STANDARD
TZOFFSETFROM:+0000
TZOFFSETTO:+0000
TZNAME:UTC
DTSTART:20230101T000000
END:STANDARD
END:VTIMEZONE
BEGIN:VEVENT
DTSTART;TZID=Asia/Kolkata:20250422T190000
DTEND;TZID=Asia/Kolkata:20250422T201500
DTSTAMP:20260424T181018
CREATED:20250312T060049Z
LAST-MODIFIED:20250314T101546Z
UID:20064-1745348400-1745352900@vedantavision.org
SUMMARY:7 Lessons from Bhagavad Gita - Day 3
DESCRIPTION:7 LESSONS FROM BHAGAVAD GITA – DAY 3\n\nFree Talk Series by Jaya Row\n\n\n\nThe world is a wonderful place to live in. Technology has made it even more alluring. But behind the facade of fabulous lifestyles and high-end cars is loneliness\, depression and sorrow. Even those who have reached the pinnacle of success suffer from anxiety\, failed relationships and mental health issues. \nThe Bhagavad Gita gives the technique of living which enables us to live ordinary lives in an extraordinary way. With the help of the Gita people have been able to overcome incredible odds and attain remarkable results. \nThis talk series by Mrs Jaya Row will transform us from an ordinary mortal to an extraordinary immortal! \n\n\nRegister for free: http://tiny.cc/april20to22\n\nDownload Invite
URL:https://vedantavision.org/event/7-lessons-from-bhagavad-gita-day-3-2/
LOCATION:India House\, 8888 West Bellfort Ave\, Houston\, Tx 77031
CATEGORIES:Houston,US2025
ATTACH;FMTTYPE=image/png:https://vedantavision.org/wp-content/uploads/2023/03/7-Lessons-From-Bhagavad-Gita-500x280-1.png
END:VEVENT
BEGIN:VEVENT
DTSTART;TZID=Asia/Kolkata:20250421T190000
DTEND;TZID=Asia/Kolkata:20250421T201500
DTSTAMP:20260424T181018
CREATED:20250312T060035Z
LAST-MODIFIED:20250314T101536Z
UID:20062-1745262000-1745266500@vedantavision.org
SUMMARY:7 Lessons from Bhagavad Gita - Day 2
DESCRIPTION:7 LESSONS FROM BHAGAVAD GITA – DAY 2\n\nFree Talk Series by Jaya Row\n\n\n\nThe world is a wonderful place to live in. Technology has made it even more alluring. But behind the facade of fabulous lifestyles and high-end cars is loneliness\, depression and sorrow. Even those who have reached the pinnacle of success suffer from anxiety\, failed relationships and mental health issues. \nThe Bhagavad Gita gives the technique of living which enables us to live ordinary lives in an extraordinary way. With the help of the Gita people have been able to overcome incredible odds and attain remarkable results. \nThis talk series by Mrs Jaya Row will transform us from an ordinary mortal to an extraordinary immortal! \n\n\nRegister for free: http://tiny.cc/april20to22\n\nDownload Invite
URL:https://vedantavision.org/event/7-lessons-from-bhagavad-gita-day-2-2/
LOCATION:India House\, 8888 West Bellfort Ave\, Houston\, Tx 77031
CATEGORIES:Houston,US2025
ATTACH;FMTTYPE=image/png:https://vedantavision.org/wp-content/uploads/2023/03/7-Lessons-From-Bhagavad-Gita-500x280-1.png
END:VEVENT
BEGIN:VEVENT
DTSTART;TZID=Asia/Kolkata:20250420T160000
DTEND;TZID=Asia/Kolkata:20250420T171500
DTSTAMP:20260424T181018
CREATED:20250312T060010Z
LAST-MODIFIED:20250314T101504Z
UID:20060-1745164800-1745169300@vedantavision.org
SUMMARY:7 Lessons from Bhagavad Gita - Day 1
DESCRIPTION:7 LESSONS FROM BHAGAVAD GITA – DAY 1\n\nFree Talk Series by Jaya Row\n\n\n\nThe world is a wonderful place to live in. Technology has made it even more alluring. But behind the facade of fabulous lifestyles and high-end cars is loneliness\, depression and sorrow. Even those who have reached the pinnacle of success suffer from anxiety\, failed relationships and mental health issues. \nThe Bhagavad Gita gives the technique of living which enables us to live ordinary lives in an extraordinary way. With the help of the Gita people have been able to overcome incredible odds and attain remarkable results. \nThis talk series by Mrs Jaya Row will transform us from an ordinary mortal to an extraordinary immortal! \n\n\nRegister for free: http://tiny.cc/april20to22\n\nDownload Invite
URL:https://vedantavision.org/event/7-lessons-from-bhagavad-gita-day-1-2/
LOCATION:India House\, 8888 West Bellfort Ave\, Houston\, Tx 77031
CATEGORIES:Houston,US2025
ATTACH;FMTTYPE=image/png:https://vedantavision.org/wp-content/uploads/2023/03/7-Lessons-From-Bhagavad-Gita-500x280-1.png
END:VEVENT
BEGIN:VEVENT
DTSTART;TZID=UTC:20240414T100000
DTEND;TZID=UTC:20240414T110000
DTSTAMP:20260424T181018
CREATED:20240311T095439Z
LAST-MODIFIED:20240401T112224Z
UID:14642-1713088800-1713092400@vedantavision.org
SUMMARY:Talk for Teenagers - Pursuing Excellence
DESCRIPTION:PURSUING EXCELLENCE\n\nFree Talk by Jaya Row\n\n\n\n“Inside every block of stone dwells a beautiful statue. Similarly\, inside every human dwells the divine ‘You’. Remove the excess material to unravel the beauty within.” Michelangelo \nThese words succinctly sum up the essence of Vedanta\, which is – the pursuit of Excellence within. \nThis talk by Mrs Jaya Row will help you manage the whims and fancies of the mind to achieve success in the world. Just as a gadget needs an instructions manual\, the inner working of the human personality requires a handbook to use this fantastic inner equipment. This talk provides the basis of the handbook! \n\n\n\nNote: Talk for teenagers \n\n\nDownload Invite
URL:https://vedantavision.org/event/talk-for-teenagers-pursuing-excellence/
LOCATION:Arya Samaj\,\, 14375 Schiller Road\, Houston TX 77082
CATEGORIES:Houston,US2024
ATTACH;FMTTYPE=image/png:https://vedantavision.org/wp-content/uploads/2023/03/Purpose-Driven-Life-500x280-1.png
END:VEVENT
BEGIN:VEVENT
DTSTART;TZID=UTC:20240413T190000
DTEND;TZID=UTC:20240413T203000
DTSTAMP:20260424T181018
CREATED:20240311T095212Z
LAST-MODIFIED:20240401T063928Z
UID:14638-1713034800-1713040200@vedantavision.org
SUMMARY:Bhagavad Gita's Timeless Teachings - Day 2
DESCRIPTION:BHAGAVAD GITA’S TIMELESS TEACHINGS\n\nFree Talk by Jaya Row\n\n\n\nThe Bhagavad Gita is not just a relic from the past. It is a living\, vibrant prescription for life. It confers dynamism\, gives joy and helps you tap into your potential! \nWhat does the Bhagavad Gita offer that is not available in the leading Universities of the world? The Bhagavad Gita is a guide to self-management. Your mindset and attitude play a pivotal role in success. \nThe talk by Mrs Jaya Row will focus on the important lessons that will take you from drudgery to revelry and from misery to magic. \n\n\n\nDownload Invite
URL:https://vedantavision.org/event/bhagavad-gitas-timeless-teachings-day-2/
LOCATION:Arya Samaj\,\, 14375 Schiller Road\, Houston TX 77082
CATEGORIES:Houston,US2024
ATTACH;FMTTYPE=image/png:https://vedantavision.org/wp-content/uploads/2023/03/7-Lessons-From-Bhagavad-Gita-500x280-1.png
END:VEVENT
BEGIN:VEVENT
DTSTART;TZID=UTC:20240412T190000
DTEND;TZID=UTC:20240412T203000
DTSTAMP:20260424T181018
CREATED:20240311T095156Z
LAST-MODIFIED:20240401T063918Z
UID:14637-1712948400-1712953800@vedantavision.org
SUMMARY:Bhagavad Gita's Timeless Teachings - Day 1
DESCRIPTION:BHAGAVAD GITA’S TIMELESS TEACHINGS\n\nFree Talk by Jaya Row\n\n\n\nThe Bhagavad Gita is not just a relic from the past. It is a living\, vibrant prescription for life. It confers dynamism\, gives joy and helps you tap into your potential! \nWhat does the Bhagavad Gita offer that is not available in the leading Universities of the world? The Bhagavad Gita is a guide to self-management. Your mindset and attitude play a pivotal role in success. \nThe talk by Mrs Jaya Row will focus on the important lessons that will take you from drudgery to revelry and from misery to magic. \n\n\n\nDownload Invite
URL:https://vedantavision.org/event/bhagavad-gitas-timeless-teachings-day-1/
LOCATION:Arya Samaj\,\, 14375 Schiller Road\, Houston TX 77082
CATEGORIES:Houston,US2024
ATTACH;FMTTYPE=image/png:https://vedantavision.org/wp-content/uploads/2023/03/7-Lessons-From-Bhagavad-Gita-500x280-1.png
END:VEVENT
END:VCALENDAR