BEGIN:VCALENDAR
VERSION:2.0
PRODID:-//Vedanta Vision - ECPv6.15.20//NONSGML v1.0//EN
CALSCALE:GREGORIAN
METHOD:PUBLISH
X-ORIGINAL-URL:https://vedantavision.org
X-WR-CALDESC:Events for Vedanta Vision
REFRESH-INTERVAL;VALUE=DURATION:PT1H
X-Robots-Tag:noindex
X-PUBLISHED-TTL:PT1H
BEGIN:VTIMEZONE
TZID:UTC
BEGIN:STANDARD
TZOFFSETFROM:+0000
TZOFFSETTO:+0000
TZNAME:UTC
DTSTART:20240101T000000
END:STANDARD
END:VTIMEZONE
BEGIN:VTIMEZONE
TZID:Asia/Kolkata
BEGIN:STANDARD
TZOFFSETFROM:+0530
TZOFFSETTO:+0530
TZNAME:IST
DTSTART:20240101T000000
END:STANDARD
END:VTIMEZONE
BEGIN:VEVENT
DTSTART;TZID=UTC:20250615T170000
DTEND;TZID=UTC:20250615T180000
DTSTAMP:20260424T142553
CREATED:20250515T113605Z
LAST-MODIFIED:20250603T072816Z
UID:21091-1750006800-1750010400@vedantavision.org
SUMMARY:Inspired Living
DESCRIPTION:INSPIRED LIVING\n\nFree Talk by Jaya Row\n\n\n\nHow many of us wake up inspired\, looking forward to the day’s work? Who among us finds exhilaration in contributing to society by adding value to others? When you’re enthusiastic about serving the world\, your life will transform overnight. You can redefine norms and attain the impossible\, paving the way for outstanding success. You find happiness at work\, not in escaping from it. Most importantly\, you evolve into a towering personality. \nInspiration gives ordinary people the courage to make life better for themselves and future generations. The world does not need exceptionally talented or intelligent people. It needs ordinary people with extraordinary motivation. \n\n\n\nNote: Talk: 5 to 6 PM\nQ&A few mins \n\n\nDownload Invite
URL:https://vedantavision.org/event/inspired-living-6/
LOCATION:Shree Limbach Maa Mandir\, Claremont Street\, Leicester LE4 7QH
CATEGORIES:Leicester,UK2025
ATTACH;FMTTYPE=image/png:https://vedantavision.org/wp-content/uploads/2023/03/Inspired-Living-500x280-1.png
END:VEVENT
BEGIN:VEVENT
DTSTART;TZID=Asia/Kolkata:20250615T100000
DTEND;TZID=Asia/Kolkata:20250615T110000
DTSTAMP:20260424T142553
CREATED:20250515T111511Z
LAST-MODIFIED:20250603T072812Z
UID:21084-1749981600-1749985200@vedantavision.org
SUMMARY:Bhagavad Gita for an Extraordinary Life - Youth Talk
DESCRIPTION:BHAGAVAD GITA FOR AN EXTRAORDINARY LIFE – YOUTH TALK\n\nFree Talk by Jaya Row\n\n\n\nThe world is a wonderful place to live in. Technology has made it even more alluring. But behind the facade of fabulous lifestyles and high-end cars is loneliness\, depression and sorrow. Even those who have reached the pinnacle of success suffer from anxiety\, failed relationships and mental health issues. \nThe Bhagavad Gita gives the technique of living which enables us to live ordinary lives in an extraordinary way. With the help of the Gita people have been able to overcome incredible odds and attain remarkable results. \nThis talk by Mrs Jaya Row will transform us from an ordinary mortal to an extraordinary immortal! \n\n\nNote: 10 to 11 AM\nQ&A 15 mins\n\n\nDownload Invite
URL:https://vedantavision.org/event/bhagavad-gita-for-an-extraordinary-life-youth-talk/
LOCATION:Shree Damania Machhi Samaj\, 103 Frisby Road Leicester LE5 0DQ
CATEGORIES:Leicester,UK2025
ATTACH;FMTTYPE=image/png:https://vedantavision.org/wp-content/uploads/2025/03/Main-Bhagavad-Gita-for-a-Successful-Mindset.png
END:VEVENT
BEGIN:VEVENT
DTSTART;TZID=UTC:20250613T190000
DTEND;TZID=UTC:20250613T200000
DTSTAMP:20260424T142553
CREATED:20250515T103559Z
LAST-MODIFIED:20250603T072800Z
UID:21061-1749841200-1749844800@vedantavision.org
SUMMARY:Law of Karma Decoded
DESCRIPTION:LAW OF KARMA DECODED\n\nFree Talk by Jaya Row\n\n\n\nThe human being alone is gifted with choice of action. With this you determine your future. If you look at your past you are a victim. With reference to the future you are a victor. Irrespective of your past you can choose to be better and nobler. \nCome and listen to one of the most powerful speakers of our time as Mrs. Jaya Row provides an incisive analysis on the role of destiny and karma in our lives. \n\nNote: 7 to 8 PM\nQ&A 15 mins \n\n\nDownload Invite
URL:https://vedantavision.org/event/law-of-karma-decoded/
LOCATION:Belgrave Neighbourhood Centre\, Rothley St\, Leicester LE4 6LF
CATEGORIES:Leicester,UK2025
ATTACH;FMTTYPE=image/png:https://vedantavision.org/wp-content/uploads/2023/03/Karma-Life-Beyond-500x280-1.png
END:VEVENT
END:VCALENDAR