BEGIN:VCALENDAR
VERSION:2.0
PRODID:-//Vedanta Vision - ECPv6.15.20//NONSGML v1.0//EN
CALSCALE:GREGORIAN
METHOD:PUBLISH
X-ORIGINAL-URL:https://vedantavision.org
X-WR-CALDESC:Events for Vedanta Vision
REFRESH-INTERVAL;VALUE=DURATION:PT1H
X-Robots-Tag:noindex
X-PUBLISHED-TTL:PT1H
BEGIN:VTIMEZONE
TZID:Asia/Kolkata
BEGIN:STANDARD
TZOFFSETFROM:+0530
TZOFFSETTO:+0530
TZNAME:IST
DTSTART:20240101T000000
END:STANDARD
END:VTIMEZONE
BEGIN:VEVENT
DTSTART;TZID=Asia/Kolkata:20250622T123000
DTEND;TZID=Asia/Kolkata:20250622T140000
DTSTAMP:20260425T205728
CREATED:20250516T125737Z
LAST-MODIFIED:20250617T134551Z
UID:21156-1750595400-1750600800@vedantavision.org
SUMMARY:Bhagavad Gita for a Successful Mindset
DESCRIPTION:BHAGAVAD GITA FOR A SUCCESSFUL MINDSET\nFree Talk by Jaya Row\n\n\n\nA Harvard University study indicates that only 15% of success comes from information\, while 85% comes from attitude. Yet\, 100% of modern education focuses only on facts and figures! \nThis talk by Mrs Jaya Row delves into the power of attitude. It elevates your skills and refines your personality. At the pinnacle\, what separates a great hopeful from a great achiever is the ability to cultivate the right attitude. \n\n\n\nNote: 12:30 to 2 PM \n\n\nDownload Invite
URL:https://vedantavision.org/event/bhagavad-gita-for-a-successful-mindset-3/
LOCATION:Sadhu Vaswani Centre\, Sadhu Vaswani Centre UK\, 25 Cricklewood Lane\, London NW2 1HP\, United Kingdom
CATEGORIES:London UK,UK2025
ATTACH;FMTTYPE=image/png:https://vedantavision.org/wp-content/uploads/2025/03/Main-Bhagavad-Gita-for-a-Successful-Mindset.png
ORGANIZER;CN="Deepu Mirpuri":MAILTO:info@sadhuvaswaniuk.com
END:VEVENT
END:VCALENDAR