BEGIN:VCALENDAR
VERSION:2.0
PRODID:-//Vedanta Vision - ECPv6.15.20//NONSGML v1.0//EN
CALSCALE:GREGORIAN
METHOD:PUBLISH
X-ORIGINAL-URL:https://vedantavision.org
X-WR-CALDESC:Events for Vedanta Vision
REFRESH-INTERVAL;VALUE=DURATION:PT1H
X-Robots-Tag:noindex
X-PUBLISHED-TTL:PT1H
BEGIN:VTIMEZONE
TZID:UTC
BEGIN:STANDARD
TZOFFSETFROM:+0000
TZOFFSETTO:+0000
TZNAME:UTC
DTSTART:20230101T000000
END:STANDARD
END:VTIMEZONE
BEGIN:VTIMEZONE
TZID:Asia/Kolkata
BEGIN:STANDARD
TZOFFSETFROM:+0530
TZOFFSETTO:+0530
TZNAME:IST
DTSTART:20230101T000000
END:STANDARD
END:VTIMEZONE
BEGIN:VEVENT
DTSTART;TZID=UTC:20250618T180000
DTEND;TZID=UTC:20250618T190000
DTSTAMP:20260424T210812
CREATED:20250516T125036Z
LAST-MODIFIED:20250603T071738Z
UID:21149-1750269600-1750273200@vedantavision.org
SUMMARY:5 Secrets of Happy Relationships
DESCRIPTION:5 SECRETS OF HAPPY RELATIONSHIPS\n\nFree Talk by Jaya Row\n\n\n\nDo you have conflict with the people you love most? Love tainted with selfishness is ‘attachment’. When you are attached you expect a return for your affection. You make demands on people. The relationship becomes conflict-ridden. In the end\, it breaks down and you lose the person.Vedanta steps in with solutions to this problem. \nExpand your mind. Get attached to a wider circle of people. As you get attached to the higher you get detached from the lower. True love is born and your relationships become free from strife. \n\n\n\nNote: 6 to 7 PM\nFollowed by Q&A 7 to 7:30 PM\nand Bhojan Prasadi\n \n\n\nDownload Invite
URL:https://vedantavision.org/event/5-secrets-of-happy-relationships/
LOCATION:Sanatan Centre\, Coulsdon\, 108-112 Chipstead Valley Rd Coulsdon CR5 3BA
CATEGORIES:London,UK2025
ATTACH;FMTTYPE=image/png:https://vedantavision.org/wp-content/uploads/2023/03/Relationships_-Discord-to-Accord-500x280-1.png
END:VEVENT
BEGIN:VEVENT
DTSTART;TZID=Asia/Kolkata:20250617T183000
DTEND;TZID=Asia/Kolkata:20250617T200000
DTSTAMP:20260424T210812
CREATED:20250516T114125Z
LAST-MODIFIED:20250603T071847Z
UID:21138-1750185000-1750190400@vedantavision.org
SUMMARY:6 Cs of Excellence
DESCRIPTION:6Cs OF EXCELLENCE\n\nFree Talk by Jaya Row\n\n\n\nExcellence is the ability to rise above your small self. Work itself doesn’t tire you—it’s the thought of self that drains your energy. Dedicate your actions to a higher purpose\, and you unlock unparalleled creativity and strength. Ego\, desire\, and small-mindedness pollute your efforts. Burn these limitations at the altar of a noble goal\, and magic unfolds. \nThe talk reveals the 6 Cs that lead to excellence. It offers ideas that turn mediocrity into mastery! \nStep in with questions. Step out with wisdom. \n\nNote: 6:30 – 8 PM \n\n\n\nDownload Invite
URL:https://vedantavision.org/event/6-cs-of-excellence-2/
LOCATION:The Nehru Centre\, 8 South Audley Street London W1K 1HF
CATEGORIES:London,UK2025
ATTACH;FMTTYPE=image/png:https://vedantavision.org/wp-content/uploads/2025/03/Main-6-Cs-Excellence.png
END:VEVENT
BEGIN:VEVENT
DTSTART;TZID=Asia/Kolkata:20250616T113000
DTEND;TZID=Asia/Kolkata:20250616T123000
DTSTAMP:20260424T210812
CREATED:20250521T123756Z
LAST-MODIFIED:20250523T064236Z
UID:21194-1750073400-1750077000@vedantavision.org
SUMMARY:The Power of One
DESCRIPTION:THE POWER OF ONE\n\nFree Talk by Jaya Row\n\n\n\n\nThe whole world is a wonderful blend of diversity. No two beings are alike. Each one is unique and special. Life would be dreary if everything were identical. Yet we seem uncomfortable with differences and try to impose uniformity. We feel insecure when we come across people who look and think differently. And make enemies of them! This defeats the very purpose of globalisation. True globalisation is the ability to see oneness in the variety of different people\, tap into their respective strengths and marginalise their weaknesses. \nThe ancient Indian sages discovered the art of zeroing in on the One behind the many. They declared the test of spiritual growth as the ability to feel one with all living beings. Yet in our experience we see differences\, demarcations and multiplicity. This talk explains why we see differences\, takes us through the benefits of feeling one and shows the way to see unity in the diversity in the world. \n\n\n\n\nDownload Invite
URL:https://vedantavision.org/event/the-power-of-one-2/
LOCATION:Shree Jalaram Mandir & Community Centre\, Greenford UK 39 - 45 Oldfield Ln S Greenford UB6 9LB
CATEGORIES:London,UK2025
ATTACH;FMTTYPE=image/jpeg:https://vedantavision.org/wp-content/uploads/2024/05/The-Power-of-One-Feature.jpg
END:VEVENT
BEGIN:VEVENT
DTSTART;TZID=UTC:20240619T110000
DTEND;TZID=UTC:20240619T120000
DTSTAMP:20260424T210812
CREATED:20240603T063910Z
LAST-MODIFIED:20240621T135000Z
UID:16094-1718794800-1718798400@vedantavision.org
SUMMARY:Inspired Living
DESCRIPTION:INSPIRED LIVING\n\nFree Talk by Jaya Row\n\n\n\nHow many of us wake up inspired\, looking forward to the day’s work? Who among us finds exhilaration in contributing to society by adding value to others? When you’re enthusiastic about serving the world\, your life will transform overnight. You can redefine norms and attain the impossible\, paving the way for outstanding success. You find happiness at work\, not in escaping from it. Most importantly\, you evolve into a towering personality. \nInspiration gives ordinary people the courage to make life better for themselves and future generations. The world does not need exceptionally talented or intelligent people. It needs ordinary people with extraordinary motivation. \n\n\n\nNote: Talk: 11 am – 12 pm\nSadavrat Prasad: 12.30 – 2 pm \n\n\nDownload Invite
URL:https://vedantavision.org/event/inspired-living-4/
LOCATION:Shree Jalaram Mandir & Community Centre\, Greenford UK 39 - 45 Oldfield Ln S Greenford UB6 9LB
CATEGORIES:London,UK2024
ATTACH;FMTTYPE=image/png:https://vedantavision.org/wp-content/uploads/2023/03/Inspired-Living-500x280-1.png
END:VEVENT
BEGIN:VEVENT
DTSTART;TZID=UTC:20240616T170000
DTEND;TZID=UTC:20240616T180000
DTSTAMP:20260424T210812
CREATED:20240509T145009Z
LAST-MODIFIED:20240510T132520Z
UID:15634-1718557200-1718560800@vedantavision.org
SUMMARY:Bhagavad Gita's Roadmap to Excellence
DESCRIPTION:BHAGAVAD GITA’S ROADMAP TO EXCELLENCE\n\nFree Talk by Jaya Row (Registration Required)\n\n\n\n“Inside every block of stone dwells a beautiful statue. Similarly\, inside every human dwells the divine ‘You’. Remove the excess material to unravel the beauty within.” Michelangelo \nThese words succinctly sum up the essence of the Bhagavad Gita\, which is – the pursuit of Excellence within. \nThe Bhagavad Gita is a universal text applicable to people from all walks of life irrespective of their nationality\, culture and religious background. Passed on from generations\, the eternal principles are as valid today as they were centuries ago. \nThe Bhagavad Gita enables you to manage the whims and fancies of the mind with the sane counsel of the intellect to achieve success in the world. It gives the formula for happiness with which you can be happy always\, irrespective of what the world has to offer. And it takes you to the zenith of human Perfection! \n\n\n\nNote: Talk 5 – 6 pm\nQ&A 6 – 6.30 pm\nFollowed by Prasad \nEligibility: Strictly 12+ can attend the talk\nCreche facility will be provided for kids under age 12 \nEntry strictly through registration only.\nRegister for free: tiny.cc/devimata16 \n\n\nDownload Invite
URL:https://vedantavision.org/event/bhagavad-gitas-roadmap-to-excellence/
LOCATION:Hindu Society (Tooting)\, 664 Garratt Lane London SW17 0NP
CATEGORIES:London,UK2024
ATTACH;FMTTYPE=image/png:https://vedantavision.org/wp-content/uploads/2023/03/Purpose-Driven-Life-500x280-1.png
END:VEVENT
BEGIN:VEVENT
DTSTART;TZID=Asia/Kolkata:20240616T133000
DTEND;TZID=Asia/Kolkata:20240616T143000
DTSTAMP:20260424T210812
CREATED:20240510T125227Z
LAST-MODIFIED:20240513T083239Z
UID:15725-1718544600-1718548200@vedantavision.org
SUMMARY:The Power of One - Insights from the Bhagavad Gita
DESCRIPTION:THE POWER OF ONE\nINSIGHTS FROM THE BHAGAVAD GITA \nFree Talk by Jaya Row\n(Registration Required)\n\n\n\nTrue globalisation is the ability to see oneness in the variety of different people\, tap into their respective strengths and marginalise their weaknesses. \nThe ancient Indian sages discovered the art of zeroing in on the One behind the many. They declared the test of spiritual growth as the ability to feel one with all living beings. Yet in our experience we see differences\, demarcations and multiplicity. The session explains why we see differences\, takes us through the benefits of feeling one and shows the way to see unity in the diversity in the world. \nThe Vedas maintain\, “vasudhaiva kutumbakam” – the whole universe is my family. All differences are imaginary. Vedanta takes you from ignorance to knowledge\, from weakness to strength. From the stress of battling opponents to the bliss of enjoying others’ joys and triumphs as your very own. \n\n\n\nNote: Talk 1.30 – 2.30 PM\nQ&A 2.30 – 3.00 PM\nFollowed by Prasad \nEligibility: Strictly 12+ can attend the talk\nCreche facility will be provided for kids under age 12 \nEntry strictly through registration only.\nRegister for free: tiny.cc/tooting16 \n\n\nDownload Invite
URL:https://vedantavision.org/event/the-power-of-one-insights-from-the-bhagavad-gita/
LOCATION:Hindu Society (Tooting)\, 664 Garratt Lane London SW17 0NP
CATEGORIES:London,UK2024
ATTACH;FMTTYPE=image/jpeg:https://vedantavision.org/wp-content/uploads/2024/05/The-Power-of-One-Feature.jpg
END:VEVENT
BEGIN:VEVENT
DTSTART;TZID=Asia/Kolkata:20240616T100000
DTEND;TZID=Asia/Kolkata:20240616T110000
DTSTAMP:20260424T210812
CREATED:20240509T144027Z
LAST-MODIFIED:20240513T113549Z
UID:15624-1718532000-1718535600@vedantavision.org
SUMMARY:7 Lessons From Bhagavad Gita
DESCRIPTION:7 LESSONS FROM BHAGAVAD GITA\n\nFree Talk by Jaya Row (Registration Required)\n\n\n\nThe Bhagavad Gita is not just a relic from the past. It is a living\, vibrant prescription for life. It confers dynamism\, gives joy and helps you tap into your potential! \nWhat does the Bhagavad Gita offer that is not available in the leading Universities of the world? The Bhagavad Gita is a guide to self-management. Your mindset and attitude play a pivotal role in success. \nThis talk by Mrs Jaya Row will focus on the 7 most important lessons that will take you from drudgery to revelry and from misery to magic. \n\n\n\nNote: Talk 10 – 11 AM\nQ&A 11 – 11.30 AM\nFollowed by Prasad \nEligibility: Strictly 12+ can attend the talk\nCreche facility will be provided for kids under age 12 \nEntry strictly through registration only.\nRegister for free: tiny.cc/wandsworth16 \n\n\nDownload Invite
URL:https://vedantavision.org/event/7-lessons-from-bhagavad-gita-8/
LOCATION:Hindu Society (Tooting)\, 664 Garratt Lane London SW17 0NP
CATEGORIES:London,UK2024
ATTACH;FMTTYPE=image/png:https://vedantavision.org/wp-content/uploads/2023/03/7-Lessons-From-Bhagavad-Gita-500x280-1.png
END:VEVENT
BEGIN:VEVENT
DTSTART;TZID=Asia/Kolkata:20240615T170000
DTEND;TZID=Asia/Kolkata:20240615T180000
DTSTAMP:20260424T210812
CREATED:20240509T144005Z
LAST-MODIFIED:20240513T113539Z
UID:15623-1718470800-1718474400@vedantavision.org
SUMMARY:7 Lessons From Bhagavad Gita
DESCRIPTION:7 LESSONS FROM BHAGAVAD GITA\n\nFree Talk by Jaya Row(Registration Required)\n\n\n\nThe Bhagavad Gita is not just a relic from the past. It is a living\, vibrant prescription for life. It confers dynamism\, gives joy and helps you tap into your potential! \nWhat does the Bhagavad Gita offer that is not available in the leading Universities of the world? The Bhagavad Gita is a guide to self-management. Your mindset and attitude play a pivotal role in success. \nThis talk by Mrs Jaya Row will focus on the 7 most important lessons that will take you from drudgery to revelry and from misery to magic. \n\n\n\nNote: Free Talk: 5 to 6 PM\nFollowed by Q&A and a light meal\n\n\nRegistration required: tiny.cc/bhagavadgita15 \n\n\nDownload Invite
URL:https://vedantavision.org/event/7-lessons-from-bhagavad-gita-7/
LOCATION:Emerson Park Social Hall\, Slewins Lane\, Hornchurch Essex RM11 2BU
CATEGORIES:London,UK2024
ATTACH;FMTTYPE=image/png:https://vedantavision.org/wp-content/uploads/2023/03/7-Lessons-From-Bhagavad-Gita-500x280-1.png
END:VEVENT
BEGIN:VEVENT
DTSTART;TZID=UTC:20240613T184500
DTEND;TZID=UTC:20240613T200000
DTSTAMP:20260424T210812
CREATED:20240509T144129Z
LAST-MODIFIED:20240603T084009Z
UID:15627-1718304300-1718308800@vedantavision.org
SUMMARY:Building Enduring Relationships
DESCRIPTION:BUILDING ENDURING RELATIONSHIPS\n\nFree Talk by Jaya Row\n\n\n\nDo you have conflict with the people you love most? Love tainted with selfishness is ‘attachment’. When you are attached you expect a return for your affection. You make demands on people.  The relationship becomes conflict-ridden. In the end\, it breaks down and you lose the person.Vedanta steps in with solutions to this problem. \nExpand your mind. Get attached to a wider circle of people. As you get attached to the higher you get detached from the lower. True love is born and your relationships become free from strife. \n\n\n\nNote: Talk: 6:45 – 8 PM \n\n\nDownload Invite
URL:https://vedantavision.org/event/building-enduring-relationships-4/
LOCATION:The Nehru Centre\, 8 South Audley Street London W1K 1HF
CATEGORIES:London,UK2024
ATTACH;FMTTYPE=image/png:https://vedantavision.org/wp-content/uploads/2023/03/Relationships_-Discord-to-Accord-500x280-1.png
END:VEVENT
END:VCALENDAR