BEGIN:VCALENDAR
VERSION:2.0
PRODID:-//Vedanta Vision - ECPv6.15.20//NONSGML v1.0//EN
CALSCALE:GREGORIAN
METHOD:PUBLISH
X-WR-CALNAME:Vedanta Vision
X-ORIGINAL-URL:https://vedantavision.org
X-WR-CALDESC:Events for Vedanta Vision
REFRESH-INTERVAL;VALUE=DURATION:PT1H
X-Robots-Tag:noindex
X-PUBLISHED-TTL:PT1H
BEGIN:VTIMEZONE
TZID:UTC
BEGIN:STANDARD
TZOFFSETFROM:+0000
TZOFFSETTO:+0000
TZNAME:UTC
DTSTART:20230101T000000
END:STANDARD
END:VTIMEZONE
BEGIN:VTIMEZONE
TZID:Asia/Kolkata
BEGIN:STANDARD
TZOFFSETFROM:+0530
TZOFFSETTO:+0530
TZNAME:IST
DTSTART:20230101T000000
END:STANDARD
END:VTIMEZONE
BEGIN:VEVENT
DTSTART;TZID=UTC:20240410T190000
DTEND;TZID=UTC:20240410T200000
DTSTAMP:20260425T035007
CREATED:20240322T103202Z
LAST-MODIFIED:20240402T102520Z
UID:15065-1712775600-1712779200@vedantavision.org
SUMMARY:Karma\, Life & Beyond
DESCRIPTION:KARMA\, LIFE\, AND BEYOND\n\nFree Talk by Jaya Row\n\n\n\nThe human being alone is gifted with choice of action. With this you determine your future. If you look at your past you are a victim. With reference to the future you are a victor. Irrespective of your past you can choose to be better and nobler. \nCome and listen to one of the most powerful speakers of our time as Mrs. Jaya Row provides an incisive analysis on the role of destiny and Karma in our lives. \nRegister for free: http://tiny.cc/va8to10april \n\n\n\nDownload Invite
URL:https://vedantavision.org/event/karma-life-beyond/
LOCATION:Srilekha Palle Home\, 4010 Sherford Drive\, Fairfax VA 22033
CATEGORIES:US2024,Virginia
ATTACH;FMTTYPE=image/png:https://vedantavision.org/wp-content/uploads/2023/03/Karma-Life-Beyond-500x280-1.png
END:VEVENT
BEGIN:VEVENT
DTSTART;TZID=UTC:20240409T190000
DTEND;TZID=UTC:20240409T200000
DTSTAMP:20260425T035007
CREATED:20240311T093626Z
LAST-MODIFIED:20240401T104513Z
UID:14626-1712689200-1712692800@vedantavision.org
SUMMARY:Inspired Living
DESCRIPTION:INSPIRED LIVING\n\nFree Talk by Jaya Row\n\n\n\nHow many of us wake up inspired\, looking forward to the day’s work? Who among us finds exhilaration in contributing to society by adding value to others? When you’re enthusiastic about serving the world\, your life will transform overnight. You can redefine norms and attain the impossible\, paving the way for outstanding success. You find happiness at work\, not in escaping from it. Most importantly\, you evolve into a towering personality. \nInspiration gives ordinary people the courage to make life better for themselves and future generations. The world does not need exceptionally talented or intelligent people. It needs ordinary people with extraordinary motivation. \nRegister for free: http://tiny.cc/va8to10april \n\n\n\nDownload Invite
URL:https://vedantavision.org/event/inspired-living-3/
LOCATION:Shri Ramakrishna Sharada Peetham\, 13227 Farmview Road Nokesville VA 20181
CATEGORIES:US2024,Virginia
ATTACH;FMTTYPE=image/png:https://vedantavision.org/wp-content/uploads/2023/03/Inspired-Living-500x280-1.png
END:VEVENT
BEGIN:VEVENT
DTSTART;TZID=Asia/Kolkata:20240408T190000
DTEND;TZID=Asia/Kolkata:20240408T200000
DTSTAMP:20260425T035007
CREATED:20240311T082226Z
LAST-MODIFIED:20240401T104407Z
UID:14618-1712602800-1712606400@vedantavision.org
SUMMARY:7 Lessons From Bhagavad Gita
DESCRIPTION:7 LESSONS FROM BHAGAVAD GITA\n\nFree Talk by Jaya Row\n\n\n\nThe Bhagavad Gita is not just a relic from the past. It is a living\, vibrant prescription for life. It confers dynamism\, gives joy and helps you tap into your potential! \nWhat does the Bhagavad Gita offer that is not available in the leading Universities of the world? The Bhagavad Gita is a guide to self-management. Your mindset and attitude play a pivotal role in success. \nThe talk by Mrs Jaya Row will focus on the 7 most important lessons that will take you from drudgery to revelry and from misery to magic. \nRegister for free: http://tiny.cc/va8to10april \n\n\n\nDownload Invite
URL:https://vedantavision.org/event/7-lessons-from-bhagavad-gita-3/
LOCATION:India International School Inc\, 4433 Brookfield Corporate Dr Chantilly VA 20151
CATEGORIES:US2024,Virginia
ATTACH;FMTTYPE=image/png:https://vedantavision.org/wp-content/uploads/2023/03/7-Lessons-From-Bhagavad-Gita-500x280-1.png
END:VEVENT
END:VCALENDAR