BEGIN:VCALENDAR
VERSION:2.0
PRODID:-//Vedanta Vision - ECPv6.15.20//NONSGML v1.0//EN
CALSCALE:GREGORIAN
METHOD:PUBLISH
X-WR-CALNAME:Vedanta Vision
X-ORIGINAL-URL:https://vedantavision.org
X-WR-CALDESC:Events for Vedanta Vision
REFRESH-INTERVAL;VALUE=DURATION:PT1H
X-Robots-Tag:noindex
X-PUBLISHED-TTL:PT1H
BEGIN:VTIMEZONE
TZID:Asia/Kolkata
BEGIN:STANDARD
TZOFFSETFROM:+0530
TZOFFSETTO:+0530
TZNAME:IST
DTSTART:20230101T000000
END:STANDARD
END:VTIMEZONE
BEGIN:VTIMEZONE
TZID:UTC
BEGIN:STANDARD
TZOFFSETFROM:+0000
TZOFFSETTO:+0000
TZNAME:UTC
DTSTART:20220101T000000
END:STANDARD
END:VTIMEZONE
BEGIN:VTIMEZONE
TZID:America/New_York
BEGIN:DAYLIGHT
TZOFFSETFROM:-0500
TZOFFSETTO:-0400
TZNAME:EDT
DTSTART:20220313T070000
END:DAYLIGHT
BEGIN:STANDARD
TZOFFSETFROM:-0400
TZOFFSETTO:-0500
TZNAME:EST
DTSTART:20221106T060000
END:STANDARD
BEGIN:DAYLIGHT
TZOFFSETFROM:-0500
TZOFFSETTO:-0400
TZNAME:EDT
DTSTART:20230312T070000
END:DAYLIGHT
BEGIN:STANDARD
TZOFFSETFROM:-0400
TZOFFSETTO:-0500
TZNAME:EST
DTSTART:20231105T060000
END:STANDARD
BEGIN:DAYLIGHT
TZOFFSETFROM:-0500
TZOFFSETTO:-0400
TZNAME:EDT
DTSTART:20240310T070000
END:DAYLIGHT
BEGIN:STANDARD
TZOFFSETFROM:-0400
TZOFFSETTO:-0500
TZNAME:EST
DTSTART:20241103T060000
END:STANDARD
BEGIN:DAYLIGHT
TZOFFSETFROM:-0500
TZOFFSETTO:-0400
TZNAME:EDT
DTSTART:20250309T070000
END:DAYLIGHT
BEGIN:STANDARD
TZOFFSETFROM:-0400
TZOFFSETTO:-0500
TZNAME:EST
DTSTART:20251102T060000
END:STANDARD
END:VTIMEZONE
BEGIN:VEVENT
DTSTART;TZID=Asia/Kolkata:20240407T160000
DTEND;TZID=Asia/Kolkata:20240407T170000
DTSTAMP:20260425T203123
CREATED:20240322T061632Z
LAST-MODIFIED:20240401T111806Z
UID:15048-1712505600-1712509200@vedantavision.org
SUMMARY:7 Lessons From Bhagavad Gita
DESCRIPTION:7 LESSONS FROM BHAGAVAD GITA\n\nFree Talk by Jaya Row\n\n\n\nThe Bhagavad Gita is not just a relic from the past. It is a living\, vibrant prescription for life. It confers dynamism\, gives joy and helps you tap into your potential! \nWhat does the Bhagavad Gita offer that is not available in the leading Universities of the world? The Bhagavad Gita is a guide to self-management. Your mindset and attitude play a pivotal role in success. \nThe talk by Mrs Jaya Row will focus on the 7 most important lessons that will take you from drudgery to revelry and from misery to magic. \n\n\n\nNote: The talk will be followed by a Q&A session & snacks \n\n\nDownload Invite
URL:https://vedantavision.org/event/7-lessons-from-bhagavad-gita-5/
LOCATION:Hindu Temple of Tri-State\, 390 North St\, White Plains\, NY 10605
CATEGORIES:New York / New Jersey,US2024
ATTACH;FMTTYPE=image/png:https://vedantavision.org/wp-content/uploads/2023/03/7-Lessons-From-Bhagavad-Gita-500x280-1.png
END:VEVENT
BEGIN:VEVENT
DTSTART;TZID=UTC:20240407T114500
DTEND;TZID=UTC:20240407T124500
DTSTAMP:20260425T203123
CREATED:20240311T072738Z
LAST-MODIFIED:20240401T111345Z
UID:14586-1712490300-1712493900@vedantavision.org
SUMMARY:Building Enduring Relationships
DESCRIPTION:BUILDING ENDURING RELATIONSHIPS\n\nFree Talk by Jaya Row\n\n\n\nDo you have conflict with the people you love most? Love tainted with selfishness is ‘attachment’. When you are attached you expect a return for your affection. You make demands on people. The relationship becomes conflict-ridden. In the end\, it breaks down and you lose the person.Vedanta steps in with solutions to this problem. \nExpand your mind. Get attached to a wider circle of people. As you get attached to the higher you get detached from the lower. True love is born and your relationships become free from strife. \n\n\n\nNote: The talk will be followed by Langar Prasad \n\n\nDownload Invite
URL:https://vedantavision.org/event/building-enduring-relationships/
LOCATION:Sadhu Vaswani Center\, 494 Durie Avenue\, Closter\, NJ 07624\, United States
CATEGORIES:New York / New Jersey,US2024
ATTACH;FMTTYPE=image/png:https://vedantavision.org/wp-content/uploads/2023/03/Relationships_-Discord-to-Accord-500x280-1.png
ORGANIZER;CN="Sadhu Vaswani Center":MAILTO:sadhuvaswanicenter@gmail.com
END:VEVENT
BEGIN:VEVENT
DTSTART;TZID=America/New_York:20240327T183000
DTEND;TZID=America/New_York:20240327T194500
DTSTAMP:20260425T203123
CREATED:20240314T091959Z
LAST-MODIFIED:20240314T091959Z
UID:14835-1711564200-1711568700@vedantavision.org
SUMMARY:Weekly Interactive Classes - Every Wednesday
DESCRIPTION:
URL:https://vedantavision.org/event/weekly-interactive-classes-every-wednesday-7/
LOCATION:INT Aditya Birla Centre for Performing Arts 38 Dadi Seth lane\, Babulnath Mumbai 400007
CATEGORIES:Weekly Interactive Classes
ATTACH;FMTTYPE=image/jpeg:https://vedantavision.org/wp-content/uploads/2023/08/Wednesday-class-leaflet.jpg
END:VEVENT
BEGIN:VEVENT
DTSTART;TZID=America/New_York:20240320T183000
DTEND;TZID=America/New_York:20240320T194500
DTSTAMP:20260425T203123
CREATED:20240314T091707Z
LAST-MODIFIED:20240314T091707Z
UID:14833-1710959400-1710963900@vedantavision.org
SUMMARY:Weekly Interactive Classes - Every Wednesday
DESCRIPTION:
URL:https://vedantavision.org/event/weekly-interactive-classes-every-wednesday-5/
LOCATION:INT Aditya Birla Centre for Performing Arts 38 Dadi Seth lane\, Babulnath Mumbai 400007
CATEGORIES:Weekly Interactive Classes
ATTACH;FMTTYPE=image/jpeg:https://vedantavision.org/wp-content/uploads/2023/08/Wednesday-class-leaflet.jpg
END:VEVENT
BEGIN:VEVENT
DTSTART;TZID=America/New_York:20240313T183000
DTEND;TZID=America/New_York:20240313T194500
DTSTAMP:20260425T203123
CREATED:20240309T073353Z
LAST-MODIFIED:20240309T073407Z
UID:14558-1710354600-1710359100@vedantavision.org
SUMMARY:Weekly Interactive Classes - Every Wednesday
DESCRIPTION:
URL:https://vedantavision.org/event/weekly-interactive-classes-every-wednesday-copy-2/
LOCATION:INT Aditya Birla Centre for Performing Arts 38 Dadi Seth lane\, Babulnath Mumbai 400007
CATEGORIES:Weekly Interactive Classes
ATTACH;FMTTYPE=image/jpeg:https://vedantavision.org/wp-content/uploads/2023/08/Wednesday-class-leaflet.jpg
END:VEVENT
BEGIN:VEVENT
DTSTART;TZID=Asia/Kolkata:20240309T183000
DTEND;TZID=Asia/Kolkata:20240309T190000
DTSTAMP:20260425T203123
CREATED:20240227T132626Z
LAST-MODIFIED:20240227T132626Z
UID:14478-1710009000-1710010800@vedantavision.org
SUMMARY:Bhagavad Gita Webinars - Every Saturday
DESCRIPTION:Are you looking to build a stronger sense of self? The weekly webinars are here to unlock your potential for success\, happiness\, and excellence. Jaya Row\, a renowned exponent of Vedanta\, uses her science and management background to captivate audiences from all walks of life. \nHer weekly webinars on the Bhagavad Gita offer simple explanations of Vedantic principles. These principles help you achieve effortless excellence\, regardless of nationality\, culture\, or religious background. Hundreds of people across the globe stream her talks every week\, enabling the message of Vedanta to reach as many people as possible. \nThrough the timeless wisdom of Vedanta\, Jaya Row inspires you to uncover your own greatness. Her teachings on the Bhagavad Gita remind you that success\, happiness\, and excellence are not unattainable ideals but achievable goals within your reach. Her webinars invite you on a journey of self-discovery and self-mastery. Come register now and build a steady foundation to face life’s challenges! \nSmt. Jaya Row is one of the best speakers on the Bhagavad Gita. She excels in presenting the Gita in a simple manner which makes for easy understanding and application of its message. It is therefore no surprise that Jayaji is one of the most sought after orators\, having been invited to prestigious institutions such as the World Economic Forum\, Davos\, World Bank Washington DC\, Young Presidents’ Organisation worldwide etc. \nRegister for Free
URL:https://vedantavision.org/event/bhagavad-gita-webinars-every-saturday-7/
CATEGORIES:Weekly Interactive Classes
ATTACH;FMTTYPE=image/jpeg:https://vedantavision.org/wp-content/uploads/2023/04/webinar.jpg
END:VEVENT
BEGIN:VEVENT
DTSTART;TZID=America/New_York:20240306T183000
DTEND;TZID=America/New_York:20240306T194500
DTSTAMP:20260425T203123
CREATED:20240227T132526Z
LAST-MODIFIED:20240227T132526Z
UID:14477-1709749800-1709754300@vedantavision.org
SUMMARY:Weekly Interactive Classes - Every Wednesday
DESCRIPTION:
URL:https://vedantavision.org/event/weekly-interactive-classes-every-wednesday-4/
LOCATION:INT Aditya Birla Centre for Performing Arts 38 Dadi Seth lane\, Babulnath Mumbai 400007
CATEGORIES:Weekly Interactive Classes
ATTACH;FMTTYPE=image/jpeg:https://vedantavision.org/wp-content/uploads/2023/08/Wednesday-class-leaflet.jpg
END:VEVENT
BEGIN:VEVENT
DTSTART;TZID=Asia/Kolkata:20240302T183000
DTEND;TZID=Asia/Kolkata:20240302T190000
DTSTAMP:20260425T203123
CREATED:20240226T081653Z
LAST-MODIFIED:20240226T081653Z
UID:14462-1709404200-1709406000@vedantavision.org
SUMMARY:Bhagavad Gita Webinars - Every Saturday
DESCRIPTION:Are you looking to build a stronger sense of self? The weekly webinars are here to unlock your potential for success\, happiness\, and excellence. Jaya Row\, a renowned exponent of Vedanta\, uses her science and management background to captivate audiences from all walks of life. \nHer weekly webinars on the Bhagavad Gita offer simple explanations of Vedantic principles. These principles help you achieve effortless excellence\, regardless of nationality\, culture\, or religious background. Hundreds of people across the globe stream her talks every week\, enabling the message of Vedanta to reach as many people as possible. \nThrough the timeless wisdom of Vedanta\, Jaya Row inspires you to uncover your own greatness. Her teachings on the Bhagavad Gita remind you that success\, happiness\, and excellence are not unattainable ideals but achievable goals within your reach. Her webinars invite you on a journey of self-discovery and self-mastery. Come register now and build a steady foundation to face life’s challenges! \nSmt. Jaya Row is one of the best speakers on the Bhagavad Gita. She excels in presenting the Gita in a simple manner which makes for easy understanding and application of its message. It is therefore no surprise that Jayaji is one of the most sought after orators\, having been invited to prestigious institutions such as the World Economic Forum\, Davos\, World Bank Washington DC\, Young Presidents’ Organisation worldwide etc. \nRegister for Free
URL:https://vedantavision.org/event/bhagavad-gita-webinars-every-saturday-6/
CATEGORIES:Weekly Interactive Classes
ATTACH;FMTTYPE=image/jpeg:https://vedantavision.org/wp-content/uploads/2023/04/webinar.jpg
END:VEVENT
BEGIN:VEVENT
DTSTART;TZID=America/New_York:20240228T183000
DTEND;TZID=America/New_York:20240228T194500
DTSTAMP:20260425T203123
CREATED:20240226T081552Z
LAST-MODIFIED:20240226T081552Z
UID:14460-1709145000-1709149500@vedantavision.org
SUMMARY:Weekly Interactive Classes - Every Wednesday
DESCRIPTION:
URL:https://vedantavision.org/event/weekly-interactive-classes-every-wednesday-3/
LOCATION:INT Aditya Birla Centre for Performing Arts 38 Dadi Seth lane\, Babulnath Mumbai 400007
CATEGORIES:Weekly Interactive Classes
ATTACH;FMTTYPE=image/jpeg:https://vedantavision.org/wp-content/uploads/2023/08/Wednesday-class-leaflet.jpg
END:VEVENT
BEGIN:VEVENT
DTSTART;TZID=Asia/Kolkata:20240224T183000
DTEND;TZID=Asia/Kolkata:20240224T190000
DTSTAMP:20260425T203123
CREATED:20240220T100434Z
LAST-MODIFIED:20240220T100434Z
UID:14451-1708799400-1708801200@vedantavision.org
SUMMARY:Bhagavad Gita Webinars - Every Saturday
DESCRIPTION:Are you looking to build a stronger sense of self? The weekly webinars are here to unlock your potential for success\, happiness\, and excellence. Jaya Row\, a renowned exponent of Vedanta\, uses her science and management background to captivate audiences from all walks of life. \nHer weekly webinars on the Bhagavad Gita offer simple explanations of Vedantic principles. These principles help you achieve effortless excellence\, regardless of nationality\, culture\, or religious background. Hundreds of people across the globe stream her talks every week\, enabling the message of Vedanta to reach as many people as possible. \nThrough the timeless wisdom of Vedanta\, Jaya Row inspires you to uncover your own greatness. Her teachings on the Bhagavad Gita remind you that success\, happiness\, and excellence are not unattainable ideals but achievable goals within your reach. Her webinars invite you on a journey of self-discovery and self-mastery. Come register now and build a steady foundation to face life’s challenges! \nSmt. Jaya Row is one of the best speakers on the Bhagavad Gita. She excels in presenting the Gita in a simple manner which makes for easy understanding and application of its message. It is therefore no surprise that Jayaji is one of the most sought after orators\, having been invited to prestigious institutions such as the World Economic Forum\, Davos\, World Bank Washington DC\, Young Presidents’ Organisation worldwide etc. \nRegister for Free
URL:https://vedantavision.org/event/bhagavad-gita-webinars-every-saturday-5/
CATEGORIES:Weekly Interactive Classes
ATTACH;FMTTYPE=image/jpeg:https://vedantavision.org/wp-content/uploads/2023/04/webinar.jpg
END:VEVENT
BEGIN:VEVENT
DTSTART;TZID=America/New_York:20240222T183000
DTEND;TZID=America/New_York:20240225T200000
DTSTAMP:20260425T203123
CREATED:20240119T134359Z
LAST-MODIFIED:20240125T111835Z
UID:13690-1708626600-1708891200@vedantavision.org
SUMMARY:Bengaluru: 4-Day Talk Series1
DESCRIPTION:
URL:https://vedantavision.org/event/bengaluru-4-day-talk-series1/
LOCATION:Prabhath Kaladwaraka Auditorium\, Koramangala Club\, Bengaluru\, 560095\, India
ATTACH;FMTTYPE=image/png:https://vedantavision.org/wp-content/uploads/2024/01/Ben_Article.png
END:VEVENT
BEGIN:VEVENT
DTSTART;TZID=America/New_York:20240221T183000
DTEND;TZID=America/New_York:20240221T194500
DTSTAMP:20260425T203123
CREATED:20240215T060906Z
LAST-MODIFIED:20240215T060932Z
UID:14445-1708540200-1708544700@vedantavision.org
SUMMARY:Weekly Interactive Classes - Every Wednesday
DESCRIPTION:
URL:https://vedantavision.org/event/weekly-interactive-classes-every-wednesday-copy/
LOCATION:INT Aditya Birla Centre for Performing Arts 38 Dadi Seth lane\, Babulnath Mumbai 400007
CATEGORIES:Weekly Interactive Classes
ATTACH;FMTTYPE=image/jpeg:https://vedantavision.org/wp-content/uploads/2023/08/Wednesday-class-leaflet.jpg
END:VEVENT
BEGIN:VEVENT
DTSTART;TZID=Asia/Kolkata:20240217T183000
DTEND;TZID=Asia/Kolkata:20240217T190000
DTSTAMP:20260425T203123
CREATED:20240215T060823Z
LAST-MODIFIED:20240215T060827Z
UID:14443-1708194600-1708196400@vedantavision.org
SUMMARY:Bhagavad Gita Webinars - Every Saturday
DESCRIPTION:Are you looking to build a stronger sense of self? The weekly webinars are here to unlock your potential for success\, happiness\, and excellence. Jaya Row\, a renowned exponent of Vedanta\, uses her science and management background to captivate audiences from all walks of life. \nHer weekly webinars on the Bhagavad Gita offer simple explanations of Vedantic principles. These principles help you achieve effortless excellence\, regardless of nationality\, culture\, or religious background. Hundreds of people across the globe stream her talks every week\, enabling the message of Vedanta to reach as many people as possible. \nThrough the timeless wisdom of Vedanta\, Jaya Row inspires you to uncover your own greatness. Her teachings on the Bhagavad Gita remind you that success\, happiness\, and excellence are not unattainable ideals but achievable goals within your reach. Her webinars invite you on a journey of self-discovery and self-mastery. Come register now and build a steady foundation to face life’s challenges! \nSmt. Jaya Row is one of the best speakers on the Bhagavad Gita. She excels in presenting the Gita in a simple manner which makes for easy understanding and application of its message. It is therefore no surprise that Jayaji is one of the most sought after orators\, having been invited to prestigious institutions such as the World Economic Forum\, Davos\, World Bank Washington DC\, Young Presidents’ Organisation worldwide etc. \nRegister for Free
URL:https://vedantavision.org/event/bhagavad-gita-webinars-every-saturday-4/
CATEGORIES:Weekly Interactive Classes
ATTACH;FMTTYPE=image/jpeg:https://vedantavision.org/wp-content/uploads/2023/04/webinar.jpg
END:VEVENT
BEGIN:VEVENT
DTSTART;TZID=Asia/Kolkata:20240203T183000
DTEND;TZID=Asia/Kolkata:20240203T190000
DTSTAMP:20260425T203123
CREATED:20240129T104942Z
LAST-MODIFIED:20240129T125047Z
UID:14246-1706985000-1706986800@vedantavision.org
SUMMARY:Bhagavad Gita Webinars - Every Saturday
DESCRIPTION:Are you looking to build a stronger sense of self? The weekly webinars are here to unlock your potential for success\, happiness\, and excellence. Jaya Row\, a renowned exponent of Vedanta\, uses her science and management background to captivate audiences from all walks of life. \nHer weekly webinars on the Bhagavad Gita offer simple explanations of Vedantic principles. These principles help you achieve effortless excellence\, regardless of nationality\, culture\, or religious background. Hundreds of people across the globe stream her talks every week\, enabling the message of Vedanta to reach as many people as possible. \nThrough the timeless wisdom of Vedanta\, Jaya Row inspires you to uncover your own greatness. Her teachings on the Bhagavad Gita remind you that success\, happiness\, and excellence are not unattainable ideals but achievable goals within your reach. Her webinars invite you on a journey of self-discovery and self-mastery. Come register now and build a steady foundation to face life’s challenges! \nSmt. Jaya Row is one of the best speakers on the Bhagavad Gita. She excels in presenting the Gita in a simple manner which makes for easy understanding and application of its message. It is therefore no surprise that Jayaji is one of the most sought after orators\, having been invited to prestigious institutions such as the World Economic Forum\, Davos\, World Bank Washington DC\, Young Presidents’ Organisation worldwide etc. \nRegister for Free
URL:https://vedantavision.org/event/bhagavad-gita-webinars-every-saturday-2/
CATEGORIES:Weekly Interactive Classes
ATTACH;FMTTYPE=image/jpeg:https://vedantavision.org/wp-content/uploads/2023/04/webinar.jpg
END:VEVENT
BEGIN:VEVENT
DTSTART;TZID=America/New_York:20240131T183000
DTEND;TZID=America/New_York:20240131T194500
DTSTAMP:20260425T203123
CREATED:20240115T062623Z
LAST-MODIFIED:20240129T071434Z
UID:13577-1706725800-1706730300@vedantavision.org
SUMMARY:Weekly Interactive Classes - Every Wednesday
DESCRIPTION:
URL:https://vedantavision.org/event/weekly-interactive-classes-every-wednesday-2/
LOCATION:INT Aditya Birla Centre for Performing Arts 38 Dadi Seth lane\, Babulnath Mumbai 400007
CATEGORIES:Weekly Interactive Classes
ATTACH;FMTTYPE=image/jpeg:https://vedantavision.org/wp-content/uploads/2023/08/Wednesday-class-leaflet.jpg
END:VEVENT
BEGIN:VEVENT
DTSTART;TZID=Asia/Kolkata:20240127T180000
DTEND;TZID=Asia/Kolkata:20240127T190000
DTSTAMP:20260425T203123
CREATED:20240108T144053Z
LAST-MODIFIED:20240401T062827Z
UID:13503-1706378400-1706382000@vedantavision.org
SUMMARY:Bhagavad Gita Webinars - Every Saturday
DESCRIPTION:Are you looking to build a stronger sense of self? The weekly webinars are here to unlock your potential for success\, happiness\, and excellence. Jaya Row\, a renowned exponent of Vedanta\, uses her science and management background to captivate audiences from all walks of life. \nHer weekly webinars on the Bhagavad Gita offer simple explanations of Vedantic principles. These principles help you achieve effortless excellence\, regardless of nationality\, culture\, or religious background. Hundreds of people across the globe stream her talks every week\, enabling the message of Vedanta to reach as many people as possible. \nThrough the timeless wisdom of Vedanta\, Jaya Row inspires you to uncover your own greatness. Her teachings on the Bhagavad Gita remind you that success\, happiness\, and excellence are not unattainable ideals but achievable goals within your reach. Her webinars invite you on a journey of self-discovery and self-mastery. Come register now and build a steady foundation to face life’s challenges! \nSmt. Jaya Row is one of the best speakers on the Bhagavad Gita. She excels in presenting the Gita in a simple manner which makes for easy understanding and application of its message. It is therefore no surprise that Jayaji is one of the most sought after orators\, having been invited to prestigious institutions such as the World Economic Forum\, Davos\, World Bank Washington DC\, Young Presidents’ Organisation worldwide etc. \nRegister for Free
URL:https://vedantavision.org/event/bhagavad-gita-webinars-every-saturday-3/
CATEGORIES:Weekly Interactive Classes
ATTACH;FMTTYPE=image/jpeg:https://vedantavision.org/wp-content/uploads/2023/04/webinar.jpg
END:VEVENT
BEGIN:VEVENT
DTSTART;TZID=America/New_York:20240124T183000
DTEND;TZID=America/New_York:20240124T194500
DTSTAMP:20260425T203123
CREATED:20240115T062413Z
LAST-MODIFIED:20240115T062413Z
UID:13575-1706121000-1706125500@vedantavision.org
SUMMARY:Weekly Interactive Classes - Every Wednesday
DESCRIPTION:
URL:https://vedantavision.org/event/weekly-interactive-classes-every-wednesday/
LOCATION:INT Aditya Birla Centre for Performing Arts 38 Dadi Seth lane\, Babulnath Mumbai 400007
CATEGORIES:Weekly Interactive Classes
ATTACH;FMTTYPE=image/jpeg:https://vedantavision.org/wp-content/uploads/2023/08/Wednesday-class-leaflet.jpg
END:VEVENT
BEGIN:VEVENT
DTSTART;TZID=Asia/Kolkata:20240120T180000
DTEND;TZID=Asia/Kolkata:20240120T190000
DTSTAMP:20260425T203123
CREATED:20240115T062137Z
LAST-MODIFIED:20240401T062835Z
UID:13573-1705773600-1705777200@vedantavision.org
SUMMARY:Bhagavad Gita Webinars - Every Saturday
DESCRIPTION:Are you looking to build a stronger sense of self? The weekly webinars are here to unlock your potential for success\, happiness\, and excellence. Jaya Row\, a renowned exponent of Vedanta\, uses her science and management background to captivate audiences from all walks of life. \nHer weekly webinars on the Bhagavad Gita offer simple explanations of Vedantic principles. These principles help you achieve effortless excellence\, regardless of nationality\, culture\, or religious background. Hundreds of people across the globe stream her talks every week\, enabling the message of Vedanta to reach as many people as possible. \nThrough the timeless wisdom of Vedanta\, Jaya Row inspires you to uncover your own greatness. Her teachings on the Bhagavad Gita remind you that success\, happiness\, and excellence are not unattainable ideals but achievable goals within your reach. Her webinars invite you on a journey of self-discovery and self-mastery. Come register now and build a steady foundation to face life’s challenges! \nSmt. Jaya Row is one of the best speakers on the Bhagavad Gita. She excels in presenting the Gita in a simple manner which makes for easy understanding and application of its message. It is therefore no surprise that Jayaji is one of the most sought after orators\, having been invited to prestigious institutions such as the World Economic Forum\, Davos\, World Bank Washington DC\, Young Presidents’ Organisation worldwide etc. \nRegister for Free
URL:https://vedantavision.org/event/bhagavad-gita-webinars-every-saturday/
CATEGORIES:Weekly Interactive Classes
ATTACH;FMTTYPE=image/jpeg:https://vedantavision.org/wp-content/uploads/2023/04/webinar.jpg
END:VEVENT
BEGIN:VEVENT
DTSTART;TZID=America/New_York:20240117T183000
DTEND;TZID=America/New_York:20240117T194500
DTSTAMP:20260425T203123
CREATED:20240110T070957Z
LAST-MODIFIED:20240111T071520Z
UID:13547-1705516200-1705520700@vedantavision.org
SUMMARY:Weekly Interactive Classes - Every Wednesday
DESCRIPTION:
URL:https://vedantavision.org/event/weekly-interactive-classes-every-wednesday-6/
LOCATION:INT Aditya Birla Centre for Performing Arts 38 Dadi Seth lane\, Babulnath Mumbai 400007
CATEGORIES:Weekly Interactive Classes
ATTACH;FMTTYPE=image/jpeg:https://vedantavision.org/wp-content/uploads/2023/08/Wednesday-class-leaflet.jpg
END:VEVENT
BEGIN:VEVENT
DTSTART;TZID=UTC:20240104T183000
DTEND;TZID=UTC:20240106T200000
DTSTAMP:20260425T203123
CREATED:20230110T074141Z
LAST-MODIFIED:20240401T062903Z
UID:13278-1704393000-1704571200@vedantavision.org
SUMMARY:7 LESSONS FROM BHAGAVAD GITA
DESCRIPTION:7 LESSONS FROM BHAGAVAD GITA\n3-Day Lecture Series in Kolkata\n\n\n\n\n\nThe 701 verses of the Bhagavad Gita seem daunting and most people don’t find the time for it. But if the core teachings of the Gita were presented concisely\, many would be motivated to tap into its wisdom. \nBegin the New Year with a new vision\, renewed inspiration and a fresh approach to life. There are 7 basic lessons that give success and prosperity\, confer happiness and transform you from a limited\, diffident individual to a confident\, powerful leader. \nOne concept has the power to uplift you\, one idea can propel you to a higher orbit and one thought can take you to heights of excellence. All you have to do is invest 3 evenings and you will reap rich dividends! \n\n\n\n\n\n7 LESSONS FROM BHAGAVAD GITA\nby\nJAYA ROW \n4th to 6th January 2024 \nDaily 6.30 to 8 pm \nKala Mandir\, 48 Shakespeare\, Sarani Road\, Kolkata 700 017 \nJoin us to transform from an ordinary person into an extraordinary icon! \n\n\nDownload Invite
URL:https://vedantavision.org/event/7-lessons-from-bhagavad-gita-2/
LOCATION:Kala Mandir\, 48 Shakespeare Sarani Road\, Kolkata\, 700017\, India
CATEGORIES:Weekly Interactive Classes
ATTACH;FMTTYPE=image/png:https://vedantavision.org/wp-content/uploads/2023/12/Jaya-Row-Event-Page-Kol.png
ORGANIZER;CN="Vedanta Vision":MAILTO:contact@vedantavision.com
END:VEVENT
BEGIN:VEVENT
DTSTART;TZID=UTC:20231013T183000
DTEND;TZID=UTC:20231016T200000
DTSTAMP:20260425T203123
CREATED:20230905T024811Z
LAST-MODIFIED:20240311T075418Z
UID:12684-1697221800-1697486400@vedantavision.org
SUMMARY:7 LESSONS FROM BHAGAVAD GITA
DESCRIPTION:7 LESSONS FROM BHAGAVAD GITA\n4-Day Lecture Series in Mumbai\n\n\n\n\n\nBhagavad Gita is not just a relic from the past. It is a living\, vibrant prescription for life. It confers dynamism\, gives joy and helps you tap into your potential! \nWhat does the Bhagavad Gita offer that is not available in the leading Universities of the world? \nThe Bhagavad Gita is a guide to self-management. Your mindset and attitude play a pivotal role in success. \n\n\n\n\n\nThese talks by Jaya Row will focus on the 7 most important lessons that will take you from drudgery to revelry and from misery to magic. \n7 LESSONS FROM BHAGAVAD GITA\nby\nJAYA ROW \n10 to 13 October \nDaily 6.30 to 8 pm \nBharatiya Vidya Bhavan Auditorium\, Chowpatty\, Mumbai 400 007 \nJoin us to transform from an ordinary person into an extraordinary icon! \n\n\nDownload Invite
URL:https://vedantavision.org/event/7-lessons-from-bhagavad-gita/
LOCATION:Bharatiya Vidya Bhavan Auditorium\, Chowpatty\, Mumbai\, 400 007\, India
CATEGORIES:India
ATTACH;FMTTYPE=image/jpeg:https://vedantavision.org/wp-content/uploads/2023/09/Mumbai-Talks-by-Jaya-Row-WhatsApp-Invite.jpg
ORGANIZER;CN="Vedanta Vision":MAILTO:contact@vedantavision.com
END:VEVENT
BEGIN:VEVENT
DTSTART;TZID=UTC:20231007T183000
DTEND;TZID=UTC:20231008T200000
DTSTAMP:20260425T203123
CREATED:20230904T204402Z
LAST-MODIFIED:20231006T195000Z
UID:12718-1696703400-1696795200@vedantavision.org
SUMMARY:PURSUING EXCELLENCE - Bhagavad Gita Ch 2
DESCRIPTION:PURSUING EXCELLENCE – Bhagavad Gita Ch 2\n4-Day Lecture Series in Delhi\n\n\n\n\n\nWhy are there only pockets of excellence in a sea of mediocrity? Exceptionally talented people are emotionally fragile. Brilliant scientists cannot control their anger\, and skilful sportspersons are mercurial. \nThe Bhagavad Gita gives the formula for success. When the mind is calm and intellect sharp\, you tap into inner resources and action becomes brilliant. Bhagavad Gita\, Chapter 2 Verses 54 to 72\, defines the Perfect Person and outlines the path to Perfection. \n\n\n\n\n\nCome\, rise to Perfection at the 4-day lecture series in English on\nPURSUING EXCELLENCE – Bhagavad Gita Chapter 2\nby\nJAYA ROW \n4 to 7 October \nDaily 6.30 to 8 pm \nKamani Auditorium\, 1 Copernicus Marg\, New Delhi 110 001 \n\n\nDownload Invite
URL:https://vedantavision.org/event/pursuing-excellence/
LOCATION:Kamani Auditorium\, 1 Copernicus Marg\, New Delhi\, 110 001\, India
CATEGORIES:India
ATTACH;FMTTYPE=image/png:https://vedantavision.org/wp-content/uploads/2023/09/Delhi-Talks-by-Jaya-Row-WhatsApp-Invite.png
ORGANIZER;CN="Vedanta Vision":MAILTO:contact@vedantavision.com
END:VEVENT
BEGIN:VEVENT
DTSTART;TZID=America/New_York:20230816T183000
DTEND;TZID=America/New_York:20230816T194500
DTSTAMP:20260425T203123
CREATED:20230814T052049Z
LAST-MODIFIED:20230814T055406Z
UID:12276-1692210600-1692215100@vedantavision.org
SUMMARY:Weekly Interactive Classes by Jaya Row
DESCRIPTION:
URL:https://vedantavision.org/event/weekly-interactive-classes-by-jaya-row/
LOCATION:INT Aditya Birla Centre for Performing Arts 38 Dadi Seth lane\, Babulnath Mumbai 400007
CATEGORIES:Weekly Interactive Classes
ATTACH;FMTTYPE=image/jpeg:https://vedantavision.org/wp-content/uploads/2023/08/Wednesday-class-leaflet.jpg
END:VEVENT
END:VCALENDAR