BEGIN:VCALENDAR
VERSION:2.0
PRODID:-//Vedanta Vision - ECPv6.15.20//NONSGML v1.0//EN
CALSCALE:GREGORIAN
METHOD:PUBLISH
X-WR-CALNAME:Vedanta Vision
X-ORIGINAL-URL:https://vedantavision.org
X-WR-CALDESC:Events for Vedanta Vision
REFRESH-INTERVAL;VALUE=DURATION:PT1H
X-Robots-Tag:noindex
X-PUBLISHED-TTL:PT1H
BEGIN:VTIMEZONE
TZID:Asia/Kolkata
BEGIN:STANDARD
TZOFFSETFROM:+0530
TZOFFSETTO:+0530
TZNAME:IST
DTSTART:20230101T000000
END:STANDARD
END:VTIMEZONE
BEGIN:VTIMEZONE
TZID:Asia/Kolkata
BEGIN:STANDARD
TZOFFSETFROM:+0530
TZOFFSETTO:+0530
TZNAME:IST
DTSTART:20230101T000000
END:STANDARD
END:VTIMEZONE
BEGIN:VTIMEZONE
TZID:America/New_York
BEGIN:DAYLIGHT
TZOFFSETFROM:-0500
TZOFFSETTO:-0400
TZNAME:EDT
DTSTART:20230312T070000
END:DAYLIGHT
BEGIN:STANDARD
TZOFFSETFROM:-0400
TZOFFSETTO:-0500
TZNAME:EST
DTSTART:20231105T060000
END:STANDARD
BEGIN:DAYLIGHT
TZOFFSETFROM:-0500
TZOFFSETTO:-0400
TZNAME:EDT
DTSTART:20240310T070000
END:DAYLIGHT
BEGIN:STANDARD
TZOFFSETFROM:-0400
TZOFFSETTO:-0500
TZNAME:EST
DTSTART:20241103T060000
END:STANDARD
BEGIN:DAYLIGHT
TZOFFSETFROM:-0500
TZOFFSETTO:-0400
TZNAME:EDT
DTSTART:20250309T070000
END:DAYLIGHT
BEGIN:STANDARD
TZOFFSETFROM:-0400
TZOFFSETTO:-0500
TZNAME:EST
DTSTART:20251102T060000
END:STANDARD
END:VTIMEZONE
BEGIN:VTIMEZONE
TZID:UTC
BEGIN:STANDARD
TZOFFSETFROM:+0000
TZOFFSETTO:+0000
TZNAME:UTC
DTSTART:20230101T000000
END:STANDARD
END:VTIMEZONE
BEGIN:VEVENT
DTSTART;TZID=Asia/Kolkata:20250125T180000
DTEND;TZID=Asia/Kolkata:20250125T191500
DTSTAMP:20260425T185014
CREATED:20250122T094419Z
LAST-MODIFIED:20250122T094419Z
UID:19204-1737828000-1737832500@vedantavision.org
SUMMARY:Bhagavad Gita Webinars - Every Saturday
DESCRIPTION:Are you looking to build a stronger sense of self? The weekly webinars are here to unlock your potential for success\, happiness\, and excellence. Jaya Row\, a renowned exponent of Vedanta\, uses her science and management background to captivate audiences from all walks of life. \nHer weekly webinars on the Bhagavad Gita offer simple explanations of Vedantic principles. These principles help you achieve effortless excellence\, regardless of nationality\, culture\, or religious background. Hundreds of people across the globe stream her talks every week\, enabling the message of Vedanta to reach as many people as possible. \nThrough the timeless wisdom of Vedanta\, Jaya Row inspires you to uncover your own greatness. Her teachings on the Bhagavad Gita remind you that success\, happiness\, and excellence are not unattainable ideals but achievable goals within your reach. Her webinars invite you on a journey of self-discovery and self-mastery. Come register now and build a steady foundation to face life’s challenges! \nSmt. Jaya Row is one of the best speakers on the Bhagavad Gita. She excels in presenting the Gita in a simple manner which makes for easy understanding and application of its message. It is therefore no surprise that Jayaji is one of the most sought after orators\, having been invited to prestigious institutions such as the World Economic Forum\, Davos\, World Bank Washington DC\, Young Presidents’ Organisation worldwide etc. \nRegister for Free
URL:https://vedantavision.org/event/bhagavad-gita-webinars-every-saturday-13/
CATEGORIES:Weekly Interactive Classes
ATTACH;FMTTYPE=image/jpeg:https://vedantavision.org/wp-content/uploads/2023/04/webinar.jpg
END:VEVENT
BEGIN:VEVENT
DTSTART;TZID=Asia/Kolkata:20250122T183000
DTEND;TZID=Asia/Kolkata:20250122T194500
DTSTAMP:20260425T185014
CREATED:20250122T094336Z
LAST-MODIFIED:20250122T094336Z
UID:19202-1737570600-1737575100@vedantavision.org
SUMMARY:Weekly Interactive Classes - Every Wednesday
DESCRIPTION:
URL:https://vedantavision.org/event/weekly-interactive-classes-every-wednesday-31/
LOCATION:Seva Sadan School\,\, 1st floor Opp. Gamdevi Police Station\, Pandita Ramabai Road Mumbai 400007\, mumbai\, India
CATEGORIES:Weekly Interactive Classes
ATTACH;FMTTYPE=image/jpeg:https://vedantavision.org/wp-content/uploads/2023/08/Wednesday-class-leaflet.jpg
END:VEVENT
BEGIN:VEVENT
DTSTART;TZID=Asia/Kolkata:20250118T180000
DTEND;TZID=Asia/Kolkata:20250118T191500
DTSTAMP:20260425T185014
CREATED:20250113T123552Z
LAST-MODIFIED:20250113T123552Z
UID:19198-1737223200-1737227700@vedantavision.org
SUMMARY:Bhagavad Gita Webinars - Every Saturday
DESCRIPTION:Are you looking to build a stronger sense of self? The weekly webinars are here to unlock your potential for success\, happiness\, and excellence. Jaya Row\, a renowned exponent of Vedanta\, uses her science and management background to captivate audiences from all walks of life. \nHer weekly webinars on the Bhagavad Gita offer simple explanations of Vedantic principles. These principles help you achieve effortless excellence\, regardless of nationality\, culture\, or religious background. Hundreds of people across the globe stream her talks every week\, enabling the message of Vedanta to reach as many people as possible. \nThrough the timeless wisdom of Vedanta\, Jaya Row inspires you to uncover your own greatness. Her teachings on the Bhagavad Gita remind you that success\, happiness\, and excellence are not unattainable ideals but achievable goals within your reach. Her webinars invite you on a journey of self-discovery and self-mastery. Come register now and build a steady foundation to face life’s challenges! \nSmt. Jaya Row is one of the best speakers on the Bhagavad Gita. She excels in presenting the Gita in a simple manner which makes for easy understanding and application of its message. It is therefore no surprise that Jayaji is one of the most sought after orators\, having been invited to prestigious institutions such as the World Economic Forum\, Davos\, World Bank Washington DC\, Young Presidents’ Organisation worldwide etc. \nRegister for Free
URL:https://vedantavision.org/event/bhagavad-gita-webinars-every-saturday-12/
CATEGORIES:Weekly Interactive Classes
ATTACH;FMTTYPE=image/jpeg:https://vedantavision.org/wp-content/uploads/2023/04/webinar.jpg
END:VEVENT
BEGIN:VEVENT
DTSTART;TZID=Asia/Kolkata:20250115T183000
DTEND;TZID=Asia/Kolkata:20250115T194500
DTSTAMP:20260425T185014
CREATED:20250113T123527Z
LAST-MODIFIED:20250113T123527Z
UID:19196-1736965800-1736970300@vedantavision.org
SUMMARY:Weekly Interactive Classes - Every Wednesday
DESCRIPTION:
URL:https://vedantavision.org/event/weekly-interactive-classes-every-wednesday-30/
LOCATION:Seva Sadan School\,\, 1st floor Opp. Gamdevi Police Station\, Pandita Ramabai Road Mumbai 400007\, mumbai\, India
CATEGORIES:Weekly Interactive Classes
ATTACH;FMTTYPE=image/jpeg:https://vedantavision.org/wp-content/uploads/2023/08/Wednesday-class-leaflet.jpg
END:VEVENT
BEGIN:VEVENT
DTSTART;TZID=Asia/Kolkata:20250111T180000
DTEND;TZID=Asia/Kolkata:20250111T191500
DTSTAMP:20260425T185014
CREATED:20250101T100848Z
LAST-MODIFIED:20250107T101515Z
UID:19191-1736618400-1736622900@vedantavision.org
SUMMARY:Bhagavad Gita Webinars - Every Saturday
DESCRIPTION:Are you looking to build a stronger sense of self? The weekly webinars are here to unlock your potential for success\, happiness\, and excellence. Jaya Row\, a renowned exponent of Vedanta\, uses her science and management background to captivate audiences from all walks of life. \nHer weekly webinars on the Bhagavad Gita offer simple explanations of Vedantic principles. These principles help you achieve effortless excellence\, regardless of nationality\, culture\, or religious background. Hundreds of people across the globe stream her talks every week\, enabling the message of Vedanta to reach as many people as possible. \nThrough the timeless wisdom of Vedanta\, Jaya Row inspires you to uncover your own greatness. Her teachings on the Bhagavad Gita remind you that success\, happiness\, and excellence are not unattainable ideals but achievable goals within your reach. Her webinars invite you on a journey of self-discovery and self-mastery. Come register now and build a steady foundation to face life’s challenges! \nSmt. Jaya Row is one of the best speakers on the Bhagavad Gita. She excels in presenting the Gita in a simple manner which makes for easy understanding and application of its message. It is therefore no surprise that Jayaji is one of the most sought after orators\, having been invited to prestigious institutions such as the World Economic Forum\, Davos\, World Bank Washington DC\, Young Presidents’ Organisation worldwide etc. \nRegister for Free
URL:https://vedantavision.org/event/bhagavad-gita-webinars-every-saturday-11/
CATEGORIES:Weekly Interactive Classes
ATTACH;FMTTYPE=image/jpeg:https://vedantavision.org/wp-content/uploads/2023/04/webinar.jpg
END:VEVENT
BEGIN:VEVENT
DTSTART;TZID=Asia/Kolkata:20250108T183000
DTEND;TZID=Asia/Kolkata:20250108T194500
DTSTAMP:20260425T185014
CREATED:20250107T101602Z
LAST-MODIFIED:20250107T101656Z
UID:19193-1736361000-1736365500@vedantavision.org
SUMMARY:Weekly Interactive Classes - Every Wednesday
DESCRIPTION:
URL:https://vedantavision.org/event/weekly-interactive-classes-every-wednesday-29/
LOCATION:Seva Sadan School\,\, 1st floor Opp. Gamdevi Police Station\, Pandita Ramabai Road Mumbai 400007\, mumbai\, India
CATEGORIES:Weekly Interactive Classes
ATTACH;FMTTYPE=image/jpeg:https://vedantavision.org/wp-content/uploads/2023/08/Wednesday-class-leaflet.jpg
END:VEVENT
BEGIN:VEVENT
DTSTART;TZID=Asia/Kolkata:20250104T180000
DTEND;TZID=Asia/Kolkata:20250104T191500
DTSTAMP:20260425T185014
CREATED:20241223T061322Z
LAST-MODIFIED:20241226T102733Z
UID:18897-1736013600-1736018100@vedantavision.org
SUMMARY:Bhagavad Gita Webinars - Every Saturday
DESCRIPTION:Are you looking to build a stronger sense of self? The weekly webinars are here to unlock your potential for success\, happiness\, and excellence. Jaya Row\, a renowned exponent of Vedanta\, uses her science and management background to captivate audiences from all walks of life. \nHer weekly webinars on the Bhagavad Gita offer simple explanations of Vedantic principles. These principles help you achieve effortless excellence\, regardless of nationality\, culture\, or religious background. Hundreds of people across the globe stream her talks every week\, enabling the message of Vedanta to reach as many people as possible. \nThrough the timeless wisdom of Vedanta\, Jaya Row inspires you to uncover your own greatness. Her teachings on the Bhagavad Gita remind you that success\, happiness\, and excellence are not unattainable ideals but achievable goals within your reach. Her webinars invite you on a journey of self-discovery and self-mastery. Come register now and build a steady foundation to face life’s challenges! \nSmt. Jaya Row is one of the best speakers on the Bhagavad Gita. She excels in presenting the Gita in a simple manner which makes for easy understanding and application of its message. It is therefore no surprise that Jayaji is one of the most sought after orators\, having been invited to prestigious institutions such as the World Economic Forum\, Davos\, World Bank Washington DC\, Young Presidents’ Organisation worldwide etc. \nRegister for Free
URL:https://vedantavision.org/event/bhagavad-gita-webinars-every-saturday-10/
CATEGORIES:Weekly Interactive Classes
ATTACH;FMTTYPE=image/jpeg:https://vedantavision.org/wp-content/uploads/2023/04/webinar.jpg
END:VEVENT
BEGIN:VEVENT
DTSTART;TZID=Asia/Kolkata:20241221T180000
DTEND;TZID=Asia/Kolkata:20241221T191500
DTSTAMP:20260425T185014
CREATED:20241216T091448Z
LAST-MODIFIED:20241216T091448Z
UID:18577-1734804000-1734808500@vedantavision.org
SUMMARY:Bhagavad Gita Webinars - Every Saturday
DESCRIPTION:Are you looking to build a stronger sense of self? The weekly webinars are here to unlock your potential for success\, happiness\, and excellence. Jaya Row\, a renowned exponent of Vedanta\, uses her science and management background to captivate audiences from all walks of life. \nHer weekly webinars on the Bhagavad Gita offer simple explanations of Vedantic principles. These principles help you achieve effortless excellence\, regardless of nationality\, culture\, or religious background. Hundreds of people across the globe stream her talks every week\, enabling the message of Vedanta to reach as many people as possible. \nThrough the timeless wisdom of Vedanta\, Jaya Row inspires you to uncover your own greatness. Her teachings on the Bhagavad Gita remind you that success\, happiness\, and excellence are not unattainable ideals but achievable goals within your reach. Her webinars invite you on a journey of self-discovery and self-mastery. Come register now and build a steady foundation to face life’s challenges! \nSmt. Jaya Row is one of the best speakers on the Bhagavad Gita. She excels in presenting the Gita in a simple manner which makes for easy understanding and application of its message. It is therefore no surprise that Jayaji is one of the most sought after orators\, having been invited to prestigious institutions such as the World Economic Forum\, Davos\, World Bank Washington DC\, Young Presidents’ Organisation worldwide etc. \nRegister for Free
URL:https://vedantavision.org/event/bhagavad-gita-webinars-every-saturday-9/
CATEGORIES:Weekly Interactive Classes
ATTACH;FMTTYPE=image/jpeg:https://vedantavision.org/wp-content/uploads/2023/04/webinar.jpg
END:VEVENT
BEGIN:VEVENT
DTSTART;TZID=Asia/Kolkata:20241218T183000
DTEND;TZID=Asia/Kolkata:20241218T194500
DTSTAMP:20260425T185014
CREATED:20241216T091405Z
LAST-MODIFIED:20241216T091405Z
UID:18575-1734546600-1734551100@vedantavision.org
SUMMARY:Weekly Interactive Classes - Every Wednesday
DESCRIPTION:
URL:https://vedantavision.org/event/weekly-interactive-classes-every-wednesday-28/
LOCATION:Seva Sadan School\,\, 1st floor Opp. Gamdevi Police Station\, Pandita Ramabai Road Mumbai 400007\, mumbai\, India
CATEGORIES:Weekly Interactive Classes
ATTACH;FMTTYPE=image/jpeg:https://vedantavision.org/wp-content/uploads/2023/08/Wednesday-class-leaflet.jpg
END:VEVENT
BEGIN:VEVENT
DTSTART;TZID=Asia/Kolkata:20241214T180000
DTEND;TZID=Asia/Kolkata:20241214T191500
DTSTAMP:20260425T185014
CREATED:20241210T071419Z
LAST-MODIFIED:20241210T074936Z
UID:18567-1734199200-1734203700@vedantavision.org
SUMMARY:Bhagavad Gita Webinars - Every Saturday
DESCRIPTION:Are you looking to build a stronger sense of self? The weekly webinars are here to unlock your potential for success\, happiness\, and excellence. Jaya Row\, a renowned exponent of Vedanta\, uses her science and management background to captivate audiences from all walks of life. \nHer weekly webinars on the Bhagavad Gita offer simple explanations of Vedantic principles. These principles help you achieve effortless excellence\, regardless of nationality\, culture\, or religious background. Hundreds of people across the globe stream her talks every week\, enabling the message of Vedanta to reach as many people as possible. \nThrough the timeless wisdom of Vedanta\, Jaya Row inspires you to uncover your own greatness. Her teachings on the Bhagavad Gita remind you that success\, happiness\, and excellence are not unattainable ideals but achievable goals within your reach. Her webinars invite you on a journey of self-discovery and self-mastery. Come register now and build a steady foundation to face life’s challenges! \nSmt. Jaya Row is one of the best speakers on the Bhagavad Gita. She excels in presenting the Gita in a simple manner which makes for easy understanding and application of its message. It is therefore no surprise that Jayaji is one of the most sought after orators\, having been invited to prestigious institutions such as the World Economic Forum\, Davos\, World Bank Washington DC\, Young Presidents’ Organisation worldwide etc. \nRegister for Free
URL:https://vedantavision.org/event/bhagavad-gita-webinars-every-saturday-8/
CATEGORIES:Weekly Interactive Classes
ATTACH;FMTTYPE=image/jpeg:https://vedantavision.org/wp-content/uploads/2023/04/webinar.jpg
END:VEVENT
BEGIN:VEVENT
DTSTART;TZID=Asia/Kolkata:20241211T183000
DTEND;TZID=Asia/Kolkata:20241211T194500
DTSTAMP:20260425T185014
CREATED:20241210T055452Z
LAST-MODIFIED:20241210T055452Z
UID:18565-1733941800-1733946300@vedantavision.org
SUMMARY:Weekly Interactive Classes - Every Wednesday
DESCRIPTION:
URL:https://vedantavision.org/event/weekly-interactive-classes-every-wednesday-27/
LOCATION:Seva Sadan School\,\, 1st floor Opp. Gamdevi Police Station\, Pandita Ramabai Road Mumbai 400007\, mumbai\, India
CATEGORIES:Weekly Interactive Classes
ATTACH;FMTTYPE=image/jpeg:https://vedantavision.org/wp-content/uploads/2023/08/Wednesday-class-leaflet.jpg
END:VEVENT
BEGIN:VEVENT
DTSTART;TZID=Asia/Kolkata:20241204T183000
DTEND;TZID=Asia/Kolkata:20241204T194500
DTSTAMP:20260425T185014
CREATED:20241128T065014Z
LAST-MODIFIED:20241129T130946Z
UID:18534-1733337000-1733341500@vedantavision.org
SUMMARY:Weekly Interactive Classes - Every Wednesday
DESCRIPTION:
URL:https://vedantavision.org/event/weekly-interactive-classes-every-wednesday-26/
LOCATION:Seva Sadan School\,\, 1st floor Opp. Gamdevi Police Station\, Pandita Ramabai Road Mumbai 400007\, mumbai\, India
CATEGORIES:Weekly Interactive Classes
ATTACH;FMTTYPE=image/jpeg:https://vedantavision.org/wp-content/uploads/2023/08/Wednesday-class-leaflet.jpg
END:VEVENT
BEGIN:VEVENT
DTSTART;TZID=Asia/Kolkata:20241127T183000
DTEND;TZID=Asia/Kolkata:20241127T194500
DTSTAMP:20260425T185014
CREATED:20241126T104911Z
LAST-MODIFIED:20241126T105344Z
UID:18519-1732732200-1732736700@vedantavision.org
SUMMARY:Weekly Interactive Classes - Every Wednesday
DESCRIPTION:
URL:https://vedantavision.org/event/weekly-interactive-classes-every-wednesday-copy-4/
LOCATION:Seva Sadan School\,\, 1st floor Opp. Gamdevi Police Station\, Pandita Ramabai Road Mumbai 400007\, mumbai\, India
CATEGORIES:Weekly Interactive Classes
ATTACH;FMTTYPE=image/jpeg:https://vedantavision.org/wp-content/uploads/2023/08/Wednesday-class-leaflet.jpg
END:VEVENT
BEGIN:VEVENT
DTSTART;TZID=Asia/Kolkata:20241120T183000
DTEND;TZID=Asia/Kolkata:20241120T194500
DTSTAMP:20260425T185014
CREATED:20241110T060025Z
LAST-MODIFIED:20241114T081620Z
UID:18313-1732127400-1732131900@vedantavision.org
SUMMARY:Weekly Interactive Classes - Every Wednesday
DESCRIPTION:
URL:https://vedantavision.org/event/weekly-interactive-classes-every-wednesday-copy-3/
LOCATION:Seva Sadan School\,\, 1st floor Opp. Gamdevi Police Station\, Pandita Ramabai Road Mumbai 400007\, mumbai\, India
CATEGORIES:Weekly Interactive Classes
ATTACH;FMTTYPE=image/jpeg:https://vedantavision.org/wp-content/uploads/2023/08/Wednesday-class-leaflet.jpg
END:VEVENT
BEGIN:VEVENT
DTSTART;TZID=America/New_York:20241113T183000
DTEND;TZID=America/New_York:20241113T194500
DTSTAMP:20260425T185014
CREATED:20241107T115129Z
LAST-MODIFIED:20241107T115158Z
UID:18273-1731522600-1731527100@vedantavision.org
SUMMARY:Weekly Interactive Classes - Every Wednesday
DESCRIPTION:
URL:https://vedantavision.org/event/weekly-interactive-classes-every-wednesday-25/
LOCATION:INT Aditya Birla Centre for Performing Arts 38 Dadi Seth lane\, Babulnath Mumbai 400007
CATEGORIES:Weekly Interactive Classes
ATTACH;FMTTYPE=image/jpeg:https://vedantavision.org/wp-content/uploads/2023/08/Wednesday-class-leaflet.jpg
END:VEVENT
BEGIN:VEVENT
DTSTART;TZID=America/New_York:20241106T183000
DTEND;TZID=America/New_York:20241106T194500
DTSTAMP:20260425T185014
CREATED:20241024T070917Z
LAST-MODIFIED:20241024T102724Z
UID:17919-1730917800-1730922300@vedantavision.org
SUMMARY:Weekly Interactive Classes - Every Wednesday
DESCRIPTION:
URL:https://vedantavision.org/event/weekly-interactive-classes-every-wednesday-24/
LOCATION:INT Aditya Birla Centre for Performing Arts 38 Dadi Seth lane\, Babulnath Mumbai 400007
CATEGORIES:Weekly Interactive Classes
ATTACH;FMTTYPE=image/jpeg:https://vedantavision.org/wp-content/uploads/2023/08/Wednesday-class-leaflet.jpg
END:VEVENT
BEGIN:VEVENT
DTSTART;TZID=America/New_York:20241023T183000
DTEND;TZID=America/New_York:20241023T194500
DTSTAMP:20260425T185014
CREATED:20241018T063737Z
LAST-MODIFIED:20241018T063737Z
UID:17907-1729708200-1729712700@vedantavision.org
SUMMARY:Weekly Interactive Classes - Every Wednesday
DESCRIPTION:
URL:https://vedantavision.org/event/weekly-interactive-classes-every-wednesday-23/
LOCATION:INT Aditya Birla Centre for Performing Arts 38 Dadi Seth lane\, Babulnath Mumbai 400007
CATEGORIES:Weekly Interactive Classes
ATTACH;FMTTYPE=image/jpeg:https://vedantavision.org/wp-content/uploads/2023/08/Wednesday-class-leaflet.jpg
END:VEVENT
BEGIN:VEVENT
DTSTART;TZID=America/New_York:20241009T183000
DTEND;TZID=America/New_York:20241009T194500
DTSTAMP:20260425T185014
CREATED:20241003T071857Z
LAST-MODIFIED:20241007T065545Z
UID:17791-1728498600-1728503100@vedantavision.org
SUMMARY:Weekly Interactive Classes - Every Wednesday
DESCRIPTION:
URL:https://vedantavision.org/event/weekly-interactive-classes-every-wednesday-22/
LOCATION:INT Aditya Birla Centre for Performing Arts 38 Dadi Seth lane\, Babulnath Mumbai 400007
CATEGORIES:Weekly Interactive Classes
ATTACH;FMTTYPE=image/jpeg:https://vedantavision.org/wp-content/uploads/2023/08/Wednesday-class-leaflet.jpg
END:VEVENT
BEGIN:VEVENT
DTSTART;TZID=America/New_York:20241002T183000
DTEND;TZID=America/New_York:20241002T194500
DTSTAMP:20260425T185014
CREATED:20241002T063224Z
LAST-MODIFIED:20241002T063224Z
UID:17789-1727893800-1727898300@vedantavision.org
SUMMARY:Weekly Interactive Classes - Every Wednesday
DESCRIPTION:
URL:https://vedantavision.org/event/weekly-interactive-classes-every-wednesday-21/
LOCATION:INT Aditya Birla Centre for Performing Arts 38 Dadi Seth lane\, Babulnath Mumbai 400007
CATEGORIES:Weekly Interactive Classes
ATTACH;FMTTYPE=image/jpeg:https://vedantavision.org/wp-content/uploads/2023/08/Wednesday-class-leaflet.jpg
END:VEVENT
BEGIN:VEVENT
DTSTART;TZID=America/New_York:20240928T183000
DTEND;TZID=America/New_York:20240929T200000
DTSTAMP:20260425T185014
CREATED:20240903T103020Z
LAST-MODIFIED:20240928T062154Z
UID:17261-1727548200-1727640000@vedantavision.org
SUMMARY:Bhagavad Gita For An Extraordinary Life: 4-day talks in Delhi
DESCRIPTION:
URL:https://vedantavision.org/event/bhagavad-gita-for-an-extraordinary-life/
LOCATION:Kamani Auditorium\, 1 Copernicus Marg\, New Delhi\, 110 001\, India
CATEGORIES:Upcoming Events
ATTACH;FMTTYPE=image/jpeg:https://vedantavision.org/wp-content/uploads/2024/09/Website-Pics-500x280-2024.jpg
END:VEVENT
BEGIN:VEVENT
DTSTART;TZID=America/New_York:20240918T183000
DTEND;TZID=America/New_York:20240918T194500
DTSTAMP:20260425T185014
CREATED:20240905T071148Z
LAST-MODIFIED:20240909T074333Z
UID:17538-1726684200-1726688700@vedantavision.org
SUMMARY:Weekly Interactive Classes - Every Wednesday
DESCRIPTION:
URL:https://vedantavision.org/event/weekly-interactive-classes-every-wednesday-20/
LOCATION:INT Aditya Birla Centre for Performing Arts 38 Dadi Seth lane\, Babulnath Mumbai 400007
CATEGORIES:Weekly Interactive Classes
ATTACH;FMTTYPE=image/jpeg:https://vedantavision.org/wp-content/uploads/2023/08/Wednesday-class-leaflet.jpg
END:VEVENT
BEGIN:VEVENT
DTSTART;TZID=America/New_York:20240904T183000
DTEND;TZID=America/New_York:20240904T194500
DTSTAMP:20260425T185014
CREATED:20240902T063154Z
LAST-MODIFIED:20240902T063154Z
UID:17259-1725474600-1725479100@vedantavision.org
SUMMARY:Weekly Interactive Classes - Every Wednesday
DESCRIPTION:
URL:https://vedantavision.org/event/weekly-interactive-classes-every-wednesday-19/
LOCATION:INT Aditya Birla Centre for Performing Arts 38 Dadi Seth lane\, Babulnath Mumbai 400007
CATEGORIES:Weekly Interactive Classes
ATTACH;FMTTYPE=image/jpeg:https://vedantavision.org/wp-content/uploads/2023/08/Wednesday-class-leaflet.jpg
END:VEVENT
BEGIN:VEVENT
DTSTART;TZID=America/New_York:20240828T183000
DTEND;TZID=America/New_York:20240828T194500
DTSTAMP:20260425T185014
CREATED:20240822T062712Z
LAST-MODIFIED:20240822T062712Z
UID:17100-1724869800-1724874300@vedantavision.org
SUMMARY:Weekly Interactive Classes - Every Wednesday
DESCRIPTION:
URL:https://vedantavision.org/event/weekly-interactive-classes-every-wednesday-18/
LOCATION:INT Aditya Birla Centre for Performing Arts 38 Dadi Seth lane\, Babulnath Mumbai 400007
CATEGORIES:Weekly Interactive Classes
ATTACH;FMTTYPE=image/jpeg:https://vedantavision.org/wp-content/uploads/2023/08/Wednesday-class-leaflet.jpg
END:VEVENT
BEGIN:VEVENT
DTSTART;TZID=America/New_York:20240821T183000
DTEND;TZID=America/New_York:20240821T194500
DTSTAMP:20260425T185014
CREATED:20240819T055135Z
LAST-MODIFIED:20240819T055135Z
UID:17096-1724265000-1724269500@vedantavision.org
SUMMARY:Weekly Interactive Classes - Every Wednesday
DESCRIPTION:
URL:https://vedantavision.org/event/weekly-interactive-classes-every-wednesday-17/
LOCATION:INT Aditya Birla Centre for Performing Arts 38 Dadi Seth lane\, Babulnath Mumbai 400007
CATEGORIES:Weekly Interactive Classes
ATTACH;FMTTYPE=image/jpeg:https://vedantavision.org/wp-content/uploads/2023/08/Wednesday-class-leaflet.jpg
END:VEVENT
BEGIN:VEVENT
DTSTART;TZID=America/New_York:20240814T183000
DTEND;TZID=America/New_York:20240814T194500
DTSTAMP:20260425T185014
CREATED:20240808T071324Z
LAST-MODIFIED:20240808T071324Z
UID:17080-1723660200-1723664700@vedantavision.org
SUMMARY:Weekly Interactive Classes - Every Wednesday
DESCRIPTION:
URL:https://vedantavision.org/event/weekly-interactive-classes-every-wednesday-16/
LOCATION:INT Aditya Birla Centre for Performing Arts 38 Dadi Seth lane\, Babulnath Mumbai 400007
CATEGORIES:Weekly Interactive Classes
ATTACH;FMTTYPE=image/jpeg:https://vedantavision.org/wp-content/uploads/2023/08/Wednesday-class-leaflet.jpg
END:VEVENT
BEGIN:VEVENT
DTSTART;TZID=America/New_York:20240807T183000
DTEND;TZID=America/New_York:20240807T194500
DTSTAMP:20260425T185014
CREATED:20240801T075126Z
LAST-MODIFIED:20240801T075126Z
UID:17064-1723055400-1723059900@vedantavision.org
SUMMARY:Weekly Interactive Classes - Every Wednesday
DESCRIPTION:
URL:https://vedantavision.org/event/weekly-interactive-classes-every-wednesday-15/
LOCATION:INT Aditya Birla Centre for Performing Arts 38 Dadi Seth lane\, Babulnath Mumbai 400007
CATEGORIES:Weekly Interactive Classes
ATTACH;FMTTYPE=image/jpeg:https://vedantavision.org/wp-content/uploads/2023/08/Wednesday-class-leaflet.jpg
END:VEVENT
BEGIN:VEVENT
DTSTART;TZID=America/New_York:20240731T183000
DTEND;TZID=America/New_York:20240731T194500
DTSTAMP:20260425T185014
CREATED:20240729T074414Z
LAST-MODIFIED:20240729T074414Z
UID:16937-1722450600-1722455100@vedantavision.org
SUMMARY:Weekly Interactive Classes - Every Wednesday
DESCRIPTION:
URL:https://vedantavision.org/event/weekly-interactive-classes-every-wednesday-14/
LOCATION:INT Aditya Birla Centre for Performing Arts 38 Dadi Seth lane\, Babulnath Mumbai 400007
CATEGORIES:Weekly Interactive Classes
ATTACH;FMTTYPE=image/jpeg:https://vedantavision.org/wp-content/uploads/2023/08/Wednesday-class-leaflet.jpg
END:VEVENT
BEGIN:VEVENT
DTSTART;TZID=America/New_York:20240724T183000
DTEND;TZID=America/New_York:20240724T194500
DTSTAMP:20260425T185014
CREATED:20240722T072049Z
LAST-MODIFIED:20240722T072049Z
UID:16917-1721845800-1721850300@vedantavision.org
SUMMARY:Weekly Interactive Classes - Every Wednesday
DESCRIPTION:
URL:https://vedantavision.org/event/weekly-interactive-classes-every-wednesday-13/
LOCATION:INT Aditya Birla Centre for Performing Arts 38 Dadi Seth lane\, Babulnath Mumbai 400007
CATEGORIES:Weekly Interactive Classes
ATTACH;FMTTYPE=image/jpeg:https://vedantavision.org/wp-content/uploads/2023/08/Wednesday-class-leaflet.jpg
END:VEVENT
BEGIN:VEVENT
DTSTART;TZID=America/New_York:20240717T183000
DTEND;TZID=America/New_York:20240717T194500
DTSTAMP:20260425T185014
CREATED:20240716T071128Z
LAST-MODIFIED:20240716T071128Z
UID:16852-1721241000-1721245500@vedantavision.org
SUMMARY:Weekly Interactive Classes - Every Wednesday
DESCRIPTION:
URL:https://vedantavision.org/event/weekly-interactive-classes-every-wednesday-12/
LOCATION:INT Aditya Birla Centre for Performing Arts 38 Dadi Seth lane\, Babulnath Mumbai 400007
CATEGORIES:Weekly Interactive Classes
ATTACH;FMTTYPE=image/jpeg:https://vedantavision.org/wp-content/uploads/2023/08/Wednesday-class-leaflet.jpg
END:VEVENT
BEGIN:VEVENT
DTSTART;TZID=UTC:20240706T183000
DTEND;TZID=UTC:20240706T193000
DTSTAMP:20260425T185014
CREATED:20240621T134740Z
LAST-MODIFIED:20240621T140050Z
UID:16513-1720290600-1720294200@vedantavision.org
SUMMARY:Mumbai
DESCRIPTION:Come\, Celebrate Guru Purnima With Jaya Row!\n\n\n\n\n\n\n6.30 pm – 7.30 pm\n\nView Event
URL:https://vedantavision.org/event/mumbai/
CATEGORIES:Guru Purnima 2024
ATTACH;FMTTYPE=image/png:https://vedantavision.org/wp-content/uploads/2023/06/Mumbai-1.png
END:VEVENT
END:VCALENDAR