BEGIN:VCALENDAR
VERSION:2.0
PRODID:-//Vedanta Vision - ECPv6.15.20//NONSGML v1.0//EN
CALSCALE:GREGORIAN
METHOD:PUBLISH
X-ORIGINAL-URL:https://vedantavision.org
X-WR-CALDESC:Events for Vedanta Vision
REFRESH-INTERVAL;VALUE=DURATION:PT1H
X-Robots-Tag:noindex
X-PUBLISHED-TTL:PT1H
BEGIN:VTIMEZONE
TZID:Asia/Kolkata
BEGIN:STANDARD
TZOFFSETFROM:+0530
TZOFFSETTO:+0530
TZNAME:IST
DTSTART:20240101T000000
END:STANDARD
END:VTIMEZONE
BEGIN:VTIMEZONE
TZID:Asia/Kolkata
BEGIN:STANDARD
TZOFFSETFROM:+0530
TZOFFSETTO:+0530
TZNAME:IST
DTSTART:20240101T000000
END:STANDARD
END:VTIMEZONE
BEGIN:VEVENT
DTSTART;TZID=Asia/Kolkata:20250305T183000
DTEND;TZID=Asia/Kolkata:20250305T194500
DTSTAMP:20260425T183852
CREATED:20250302T102921Z
LAST-MODIFIED:20250302T102921Z
UID:19928-1741199400-1741203900@vedantavision.org
SUMMARY:Weekly Interactive Classes - Every Wednesday
DESCRIPTION:
URL:https://vedantavision.org/event/weekly-interactive-classes-every-wednesday-35/
LOCATION:Seva Sadan School\,\, 1st floor Opp. Gamdevi Police Station\, Pandita Ramabai Road Mumbai 400007\, mumbai\, India
CATEGORIES:Weekly Interactive Classes
ATTACH;FMTTYPE=image/jpeg:https://vedantavision.org/wp-content/uploads/2023/08/Wednesday-class-leaflet.jpg
END:VEVENT
BEGIN:VEVENT
DTSTART;TZID=Asia/Kolkata:20250308T180000
DTEND;TZID=Asia/Kolkata:20250308T191500
DTSTAMP:20260425T183852
CREATED:20250302T103138Z
LAST-MODIFIED:20250302T103138Z
UID:19930-1741456800-1741461300@vedantavision.org
SUMMARY:Bhagavad Gita Webinars - Every Saturday
DESCRIPTION:Are you looking to build a stronger sense of self? The weekly webinars are here to unlock your potential for success\, happiness\, and excellence. Jaya Row\, a renowned exponent of Vedanta\, uses her science and management background to captivate audiences from all walks of life. \nHer weekly webinars on the Bhagavad Gita offer simple explanations of Vedantic principles. These principles help you achieve effortless excellence\, regardless of nationality\, culture\, or religious background. Hundreds of people across the globe stream her talks every week\, enabling the message of Vedanta to reach as many people as possible. \nThrough the timeless wisdom of Vedanta\, Jaya Row inspires you to uncover your own greatness. Her teachings on the Bhagavad Gita remind you that success\, happiness\, and excellence are not unattainable ideals but achievable goals within your reach. Her webinars invite you on a journey of self-discovery and self-mastery. Come register now and build a steady foundation to face life’s challenges! \nSmt. Jaya Row is one of the best speakers on the Bhagavad Gita. She excels in presenting the Gita in a simple manner which makes for easy understanding and application of its message. It is therefore no surprise that Jayaji is one of the most sought after orators\, having been invited to prestigious institutions such as the World Economic Forum\, Davos\, World Bank Washington DC\, Young Presidents’ Organisation worldwide etc. \nRegister for Free
URL:https://vedantavision.org/event/bhagavad-gita-webinars-every-saturday-15/
CATEGORIES:Weekly Interactive Classes
ATTACH;FMTTYPE=image/jpeg:https://vedantavision.org/wp-content/uploads/2023/04/webinar.jpg
END:VEVENT
BEGIN:VEVENT
DTSTART;TZID=Asia/Kolkata:20250312T183000
DTEND;TZID=Asia/Kolkata:20250312T194500
DTSTAMP:20260425T183852
CREATED:20250310T061333Z
LAST-MODIFIED:20250310T061333Z
UID:19978-1741804200-1741808700@vedantavision.org
SUMMARY:Weekly Interactive Classes - Every Wednesday
DESCRIPTION:
URL:https://vedantavision.org/event/weekly-interactive-classes-every-wednesday-36/
LOCATION:Seva Sadan School\,\, 1st floor Opp. Gamdevi Police Station\, Pandita Ramabai Road Mumbai 400007\, mumbai\, India
CATEGORIES:Weekly Interactive Classes
ATTACH;FMTTYPE=image/jpeg:https://vedantavision.org/wp-content/uploads/2023/08/Wednesday-class-leaflet.jpg
END:VEVENT
BEGIN:VEVENT
DTSTART;TZID=Asia/Kolkata:20250315T180000
DTEND;TZID=Asia/Kolkata:20250315T191500
DTSTAMP:20260425T183852
CREATED:20250310T061432Z
LAST-MODIFIED:20250310T061432Z
UID:19980-1742061600-1742066100@vedantavision.org
SUMMARY:Bhagavad Gita Webinars - Every Saturday
DESCRIPTION:Are you looking to build a stronger sense of self? The weekly webinars are here to unlock your potential for success\, happiness\, and excellence. Jaya Row\, a renowned exponent of Vedanta\, uses her science and management background to captivate audiences from all walks of life. \nHer weekly webinars on the Bhagavad Gita offer simple explanations of Vedantic principles. These principles help you achieve effortless excellence\, regardless of nationality\, culture\, or religious background. Hundreds of people across the globe stream her talks every week\, enabling the message of Vedanta to reach as many people as possible. \nThrough the timeless wisdom of Vedanta\, Jaya Row inspires you to uncover your own greatness. Her teachings on the Bhagavad Gita remind you that success\, happiness\, and excellence are not unattainable ideals but achievable goals within your reach. Her webinars invite you on a journey of self-discovery and self-mastery. Come register now and build a steady foundation to face life’s challenges! \nSmt. Jaya Row is one of the best speakers on the Bhagavad Gita. She excels in presenting the Gita in a simple manner which makes for easy understanding and application of its message. It is therefore no surprise that Jayaji is one of the most sought after orators\, having been invited to prestigious institutions such as the World Economic Forum\, Davos\, World Bank Washington DC\, Young Presidents’ Organisation worldwide etc. \nRegister for Free
URL:https://vedantavision.org/event/bhagavad-gita-webinars-every-saturday-16/
CATEGORIES:Weekly Interactive Classes
ATTACH;FMTTYPE=image/jpeg:https://vedantavision.org/wp-content/uploads/2023/04/webinar.jpg
END:VEVENT
BEGIN:VEVENT
DTSTART;TZID=Asia/Kolkata:20250322T180000
DTEND;TZID=Asia/Kolkata:20250322T191500
DTSTAMP:20260425T183852
CREATED:20250317T072031Z
LAST-MODIFIED:20250317T072031Z
UID:20344-1742666400-1742670900@vedantavision.org
SUMMARY:Bhagavad Gita Webinars - Every Saturday
DESCRIPTION:Are you looking to build a stronger sense of self? The weekly webinars are here to unlock your potential for success\, happiness\, and excellence. Jaya Row\, a renowned exponent of Vedanta\, uses her science and management background to captivate audiences from all walks of life. \nHer weekly webinars on the Bhagavad Gita offer simple explanations of Vedantic principles. These principles help you achieve effortless excellence\, regardless of nationality\, culture\, or religious background. Hundreds of people across the globe stream her talks every week\, enabling the message of Vedanta to reach as many people as possible. \nThrough the timeless wisdom of Vedanta\, Jaya Row inspires you to uncover your own greatness. Her teachings on the Bhagavad Gita remind you that success\, happiness\, and excellence are not unattainable ideals but achievable goals within your reach. Her webinars invite you on a journey of self-discovery and self-mastery. Come register now and build a steady foundation to face life’s challenges! \nSmt. Jaya Row is one of the best speakers on the Bhagavad Gita. She excels in presenting the Gita in a simple manner which makes for easy understanding and application of its message. It is therefore no surprise that Jayaji is one of the most sought after orators\, having been invited to prestigious institutions such as the World Economic Forum\, Davos\, World Bank Washington DC\, Young Presidents’ Organisation worldwide etc. \nRegister for Free
URL:https://vedantavision.org/event/bhagavad-gita-webinars-every-saturday-17/
CATEGORIES:Weekly Interactive Classes
ATTACH;FMTTYPE=image/jpeg:https://vedantavision.org/wp-content/uploads/2023/04/webinar.jpg
END:VEVENT
BEGIN:VEVENT
DTSTART;TZID=Asia/Kolkata:20250326T183000
DTEND;TZID=Asia/Kolkata:20250326T194500
DTSTAMP:20260425T183852
CREATED:20250316T124323Z
LAST-MODIFIED:20250424T065754Z
UID:20342-1743013800-1743018300@vedantavision.org
SUMMARY:Weekly Interactive Classes - Every Wednesday
DESCRIPTION:
URL:https://vedantavision.org/event/weekly-interactive-classes-every-wednesday-37/
LOCATION:Seva Sadan School\,\, 1st floor Opp. Gamdevi Police Station\, Pandita Ramabai Road Mumbai 400007\, mumbai\, India
CATEGORIES:Weekly Interactive Classes
ATTACH;FMTTYPE=image/jpeg:https://vedantavision.org/wp-content/uploads/2023/08/Wednesday-class-leaflet.jpg
END:VEVENT
END:VCALENDAR