BEGIN:VCALENDAR
VERSION:2.0
PRODID:-//Vedanta Vision - ECPv6.15.20//NONSGML v1.0//EN
CALSCALE:GREGORIAN
METHOD:PUBLISH
X-ORIGINAL-URL:https://vedantavision.org
X-WR-CALDESC:Events for Vedanta Vision
REFRESH-INTERVAL;VALUE=DURATION:PT1H
X-Robots-Tag:noindex
X-PUBLISHED-TTL:PT1H
BEGIN:VTIMEZONE
TZID:Asia/Kolkata
BEGIN:STANDARD
TZOFFSETFROM:+0530
TZOFFSETTO:+0530
TZNAME:IST
DTSTART:20240101T000000
END:STANDARD
END:VTIMEZONE
BEGIN:VTIMEZONE
TZID:Asia/Kolkata
BEGIN:STANDARD
TZOFFSETFROM:+0530
TZOFFSETTO:+0530
TZNAME:IST
DTSTART:20240101T000000
END:STANDARD
END:VTIMEZONE
BEGIN:VEVENT
DTSTART;TZID=Asia/Kolkata:20251101T180000
DTEND;TZID=Asia/Kolkata:20251101T191500
DTSTAMP:20260424T210709
CREATED:20251006T101219Z
LAST-MODIFIED:20251006T101219Z
UID:24630-1762020000-1762024500@vedantavision.org
SUMMARY:Bhagavad Gita Webinars - Every Saturday
DESCRIPTION:Are you looking to build a stronger sense of self? The weekly webinars are here to unlock your potential for success\, happiness\, and excellence. Jaya Row\, a renowned exponent of Vedanta\, uses her science and management background to captivate audiences from all walks of life. \nHer weekly webinars on the Bhagavad Gita offer simple explanations of Vedantic principles. These principles help you achieve effortless excellence\, regardless of nationality\, culture\, or religious background. Hundreds of people across the globe stream her talks every week\, enabling the message of Vedanta to reach as many people as possible. \nThrough the timeless wisdom of Vedanta\, Jaya Row inspires you to uncover your own greatness. Her teachings on the Bhagavad Gita remind you that success\, happiness\, and excellence are not unattainable ideals but achievable goals within your reach. Her webinars invite you on a journey of self-discovery and self-mastery. Come register now and build a steady foundation to face life’s challenges! \nSmt. Jaya Row is one of the best speakers on the Bhagavad Gita. She excels in presenting the Gita in a simple manner which makes for easy understanding and application of its message. It is therefore no surprise that Jayaji is one of the most sought after orators\, having been invited to prestigious institutions such as the World Economic Forum\, Davos\, World Bank Washington DC\, Young Presidents’ Organisation worldwide etc. \nRegister for Free
URL:https://vedantavision.org/event/bhagavad-gita-webinars-every-saturday-28/
CATEGORIES:Weekly Interactive Classes
ATTACH;FMTTYPE=image/jpeg:https://vedantavision.org/wp-content/uploads/2023/04/webinar.jpg
END:VEVENT
BEGIN:VEVENT
DTSTART;TZID=Asia/Kolkata:20251105T183000
DTEND;TZID=Asia/Kolkata:20251105T194500
DTSTAMP:20260424T210709
CREATED:20251006T101333Z
LAST-MODIFIED:20251006T101333Z
UID:24634-1762367400-1762371900@vedantavision.org
SUMMARY:Weekly Interactive Classes - Every Wednesday
DESCRIPTION:
URL:https://vedantavision.org/event/weekly-interactive-classes-every-wednesday-50/
LOCATION:Seva Sadan School\,\, 1st floor Opp. Gamdevi Police Station\, Pandita Ramabai Road Mumbai 400007\, mumbai\, India
CATEGORIES:Weekly Interactive Classes
ATTACH;FMTTYPE=image/jpeg:https://vedantavision.org/wp-content/uploads/2023/08/Wednesday-class-leaflet.jpg
END:VEVENT
BEGIN:VEVENT
DTSTART;TZID=Asia/Kolkata:20251108T180000
DTEND;TZID=Asia/Kolkata:20251108T191500
DTSTAMP:20260424T210709
CREATED:20251006T101405Z
LAST-MODIFIED:20251006T101405Z
UID:24633-1762624800-1762629300@vedantavision.org
SUMMARY:Bhagavad Gita Webinars - Every Saturday
DESCRIPTION:Are you looking to build a stronger sense of self? The weekly webinars are here to unlock your potential for success\, happiness\, and excellence. Jaya Row\, a renowned exponent of Vedanta\, uses her science and management background to captivate audiences from all walks of life. \nHer weekly webinars on the Bhagavad Gita offer simple explanations of Vedantic principles. These principles help you achieve effortless excellence\, regardless of nationality\, culture\, or religious background. Hundreds of people across the globe stream her talks every week\, enabling the message of Vedanta to reach as many people as possible. \nThrough the timeless wisdom of Vedanta\, Jaya Row inspires you to uncover your own greatness. Her teachings on the Bhagavad Gita remind you that success\, happiness\, and excellence are not unattainable ideals but achievable goals within your reach. Her webinars invite you on a journey of self-discovery and self-mastery. Come register now and build a steady foundation to face life’s challenges! \nSmt. Jaya Row is one of the best speakers on the Bhagavad Gita. She excels in presenting the Gita in a simple manner which makes for easy understanding and application of its message. It is therefore no surprise that Jayaji is one of the most sought after orators\, having been invited to prestigious institutions such as the World Economic Forum\, Davos\, World Bank Washington DC\, Young Presidents’ Organisation worldwide etc. \nRegister for Free
URL:https://vedantavision.org/event/bhagavad-gita-webinars-every-saturday-29/
CATEGORIES:Weekly Interactive Classes
ATTACH;FMTTYPE=image/jpeg:https://vedantavision.org/wp-content/uploads/2023/04/webinar.jpg
END:VEVENT
BEGIN:VEVENT
DTSTART;TZID=Asia/Kolkata:20251112T183000
DTEND;TZID=Asia/Kolkata:20251112T194500
DTSTAMP:20260424T210709
CREATED:20251111T161425Z
LAST-MODIFIED:20251111T161425Z
UID:25561-1762972200-1762976700@vedantavision.org
SUMMARY:Weekly Interactive Classes - Every Wednesday
DESCRIPTION:
URL:https://vedantavision.org/event/weekly-interactive-classes-every-wednesday-51/
LOCATION:Seva Sadan School\,\, 1st floor Opp. Gamdevi Police Station\, Pandita Ramabai Road Mumbai 400007\, mumbai\, India
CATEGORIES:Weekly Interactive Classes
ATTACH;FMTTYPE=image/jpeg:https://vedantavision.org/wp-content/uploads/2023/08/Wednesday-class-leaflet.jpg
END:VEVENT
BEGIN:VEVENT
DTSTART;TZID=Asia/Kolkata:20251119T183000
DTEND;TZID=Asia/Kolkata:20251119T194500
DTSTAMP:20260424T210709
CREATED:20251112T095348Z
LAST-MODIFIED:20251117T072204Z
UID:25572-1763577000-1763581500@vedantavision.org
SUMMARY:Weekly Interactive Classes - Every Wednesday
DESCRIPTION:
URL:https://vedantavision.org/event/weekly-interactive-classes-every-wednesday-52/
LOCATION:Seva Sadan School\,\, 1st floor Opp. Gamdevi Police Station\, Pandita Ramabai Road Mumbai 400007\, mumbai\, India
CATEGORIES:Weekly Interactive Classes
ATTACH;FMTTYPE=image/jpeg:https://vedantavision.org/wp-content/uploads/2023/08/Wednesday-class-leaflet.jpg
END:VEVENT
BEGIN:VEVENT
DTSTART;TZID=Asia/Kolkata:20251122T180000
DTEND;TZID=Asia/Kolkata:20251122T191500
DTSTAMP:20260424T210709
CREATED:20251112T100103Z
LAST-MODIFIED:20251112T100103Z
UID:25574-1763834400-1763838900@vedantavision.org
SUMMARY:Bhagavad Gita Webinars - Every Saturday
DESCRIPTION:Are you looking to build a stronger sense of self? The weekly webinars are here to unlock your potential for success\, happiness\, and excellence. Jaya Row\, a renowned exponent of Vedanta\, uses her science and management background to captivate audiences from all walks of life. \nHer weekly webinars on the Bhagavad Gita offer simple explanations of Vedantic principles. These principles help you achieve effortless excellence\, regardless of nationality\, culture\, or religious background. Hundreds of people across the globe stream her talks every week\, enabling the message of Vedanta to reach as many people as possible. \nThrough the timeless wisdom of Vedanta\, Jaya Row inspires you to uncover your own greatness. Her teachings on the Bhagavad Gita remind you that success\, happiness\, and excellence are not unattainable ideals but achievable goals within your reach. Her webinars invite you on a journey of self-discovery and self-mastery. Come register now and build a steady foundation to face life’s challenges! \nSmt. Jaya Row is one of the best speakers on the Bhagavad Gita. She excels in presenting the Gita in a simple manner which makes for easy understanding and application of its message. It is therefore no surprise that Jayaji is one of the most sought after orators\, having been invited to prestigious institutions such as the World Economic Forum\, Davos\, World Bank Washington DC\, Young Presidents’ Organisation worldwide etc. \nRegister for Free
URL:https://vedantavision.org/event/bhagavad-gita-webinars-every-saturday-30/
CATEGORIES:Weekly Interactive Classes
ATTACH;FMTTYPE=image/jpeg:https://vedantavision.org/wp-content/uploads/2023/04/webinar.jpg
END:VEVENT
END:VCALENDAR